BEGIN:VCALENDAR
VERSION:2.0
PRODID:-//Национальный детский технопарк - ECPv5.9.2//NONSGML v1.0//EN
CALSCALE:GREGORIAN
METHOD:PUBLISH
X-WR-CALNAME:Национальный детский технопарк
X-ORIGINAL-URL:https://ndtp.by
X-WR-CALDESC:События для Национальный детский технопарк
BEGIN:VTIMEZONE
TZID:Europe/Moscow
BEGIN:STANDARD
TZOFFSETFROM:+0300
TZOFFSETTO:+0300
TZNAME:MSK
DTSTART:20230101T000000
END:STANDARD
END:VTIMEZONE
BEGIN:VEVENT
DTSTART;VALUE=DATE:20231127
DTEND;VALUE=DATE:20231221
DTSTAMP:20260423T130753
CREATED:20231122T110937Z
LAST-MODIFIED:20231124T084015Z
UID:12173-1701043200-1703116799@ndtp.by
SUMMARY:Декабрьская образовательная смена
DESCRIPTION:Декабрьская образовательная смена\n Положение об образовательной смене \nСписочный состав участников\, допущенных ко второму этапу отбора учащихся для обучения в Национальном детском технопарке с 27.11.2023г. по 20.12.2023г. \nМеста проведения \n Списочный состав групп учащихся\, зачисленных в УО Национальный детский технопарк для обучения с 27.11.2023г. по 20.12.2023г.
URL:https://ndtp.by/event/dec2023/
ATTACH;FMTTYPE=image/png:https://ndtp.by/wp-content/uploads/2021/05/Group-29.png
END:VEVENT
END:VCALENDAR