BEGIN:VCALENDAR
VERSION:2.0
PRODID:-//Национальный детский технопарк - ECPv5.9.2//NONSGML v1.0//EN
CALSCALE:GREGORIAN
METHOD:PUBLISH
X-WR-CALNAME:Национальный детский технопарк
X-ORIGINAL-URL:https://ndtp.by
X-WR-CALDESC:События для Национальный детский технопарк
BEGIN:VTIMEZONE
TZID:Europe/Moscow
BEGIN:STANDARD
TZOFFSETFROM:+0300
TZOFFSETTO:+0300
TZNAME:MSK
DTSTART:20230101T000000
END:STANDARD
END:VTIMEZONE
BEGIN:VEVENT
DTSTART;VALUE=DATE:20231117
DTEND;VALUE=DATE:20231118
DTSTAMP:20260423T113252
CREATED:20231114T094316Z
LAST-MODIFIED:20231122T111601Z
UID:11896-1700179200-1700265599@ndtp.by
SUMMARY:Подписание договора с Советом молодых учёных при Министерстве образования
DESCRIPTION:Подписание договора с Советом молодых учёных при Министерстве образования\n17 ноября состоится подписание соглашения о сотрудничестве между Национальным детским технопарком и Советом молодых учёных при Министерстве образования. \nСоглашение будет подписано с целью повышения качества образования\, обмена опытом и проведения совместных научных\, образовательных\, воспитательных\, культурных и иных мероприятий. \nСотрудничество будет реализовано в следующих направлениях: \n\nпроведение научно-организационных мероприятий;\nнаучно-просветительская работа с учащейся молодежью по основным направлениям научной\, научно-технической и инновационной деятельности;\nпопуляризация научной и инновационной деятельности\, работа со СМИ;\nправовое воспитание молодежи;\nпропаганда здорового образа жизни;\nвоспитание патриотизма и любви к Родине;\nразъяснения положений действующего законодательства;\nоказание консультационной помощи молодежи.
URL:https://ndtp.by/event/17112023/
ATTACH;FMTTYPE=image/png:https://ndtp.by/wp-content/uploads/2021/05/Group-29.png
END:VEVENT
END:VCALENDAR