BEGIN:VCALENDAR
VERSION:2.0
PRODID:-//Национальный детский технопарк - ECPv5.9.2//NONSGML v1.0//EN
CALSCALE:GREGORIAN
METHOD:PUBLISH
X-WR-CALNAME:Национальный детский технопарк
X-ORIGINAL-URL:https://ndtp.by
X-WR-CALDESC:События для Национальный детский технопарк
BEGIN:VTIMEZONE
TZID:Europe/Moscow
BEGIN:STANDARD
TZOFFSETFROM:+0300
TZOFFSETTO:+0300
TZNAME:MSK
DTSTART:20230101T000000
END:STANDARD
END:VTIMEZONE
BEGIN:VEVENT
DTSTART;VALUE=DATE:20230902
DTEND;VALUE=DATE:20230903
DTSTAMP:20260423T124904
CREATED:20230822T090126Z
LAST-MODIFIED:20230926T093233Z
UID:10290-1693612800-1693699199@ndtp.by
SUMMARY:ATOM TEAM
DESCRIPTION:ATOM TEAM на Фестивале науки\n2 сентября сеть Информационных центров по атомной энергии (ИЦАЭ) проведёт научно-познавательную программу ATOM TEAM на Фестивале науки в Минске (Республика Беларусь). \nЦелый день на площадке ATOM TEAM посетителей ждут инженерные мастер-классы и научно-популярные лекции\, интеллектуальные игры и атомные викторины. Любой желающий сможет запустить цепную реакцию\, построить самую высокую испарительную башню\, разогнать Колесо Да Винчи\, создать собственный «парад планет» или построить лабиринт. \nСовременный инженер в своей работе прибегает к различным методам и приёмам. Например\, использует удалённое управление\, бесконтактные датчики\, применяет оптические инструменты\, а в дефектоскопии – проникающее ионизирующее излучение. Во время мастер-класса «Три помощника современного инженера: радио\, свет и радиация» вместе с физиком и популяризатором науки Дмитрием Побединским соберём необычные устройства\, которые используют три вида излучения: радиоприёмник\, работающий без батареек\, катушку Теслы\, которая зажигает лампочки без проводов\, и камеру Вильсона\, в которой можно увидеть радиацию. \nКакие открытия последних 20 лет точно войдут в историю и изменят мир навсегда? Во время лекции Дмитрия Побединского «Достижения современной физики» обсудим квантовые компьютеры\, графен\, бозон Хиггса\, тёмную материю и многое другое! \nНе упустите возможность окунуться в мир атомных технологий! Ждём вас 2 сентября в Центральном ботаническом саду Минска на площадке ATOM TEAM! \nМероприятия организованы при поддержке Инжинирингового дивизиона Госкорпорации «Росатом» (АО «АСЭ»).
URL:https://ndtp.by/event/02092023/
ATTACH;FMTTYPE=image/png:https://ndtp.by/wp-content/uploads/2021/05/Group-29.png
END:VEVENT
END:VCALENDAR