BEGIN:VCALENDAR
VERSION:2.0
PRODID:-//Национальный детский технопарк - ECPv5.9.2//NONSGML v1.0//EN
CALSCALE:GREGORIAN
METHOD:PUBLISH
X-WR-CALNAME:Национальный детский технопарк
X-ORIGINAL-URL:https://ndtp.by
X-WR-CALDESC:События для Национальный детский технопарк
BEGIN:VTIMEZONE
TZID:Europe/Moscow
BEGIN:STANDARD
TZOFFSETFROM:+0300
TZOFFSETTO:+0300
TZNAME:MSK
DTSTART:20220101T000000
END:STANDARD
END:VTIMEZONE
BEGIN:VEVENT
DTSTART;VALUE=DATE:20220508
DTEND;VALUE=DATE:20220509
DTSTAMP:20260423T114335
CREATED:20220510T093945Z
LAST-MODIFIED:20220527T114223Z
UID:5316-1651968000-1652054399@ndtp.by
SUMMARY:Экскурсия в мемориальный комплекс «Хатынь»
DESCRIPTION:Экскурсия в мемориальный комплекс «Хатынь»\nВ рамках проекта «Минувших лет живая память» 8 мая — накануне Дня Победы — состоится экскурсия в Государственном учреждении «Государственный мемориальный комплекс Хатынь». \nВ годы Великой Отечественной войны на оккупированной территории немецко-фашистские захватчики\, осуществляя так называемый «новый порядок»\, массово уничтожали местное население\, не жалея стариков\, женщин\, детей. Самой жуткой карательной мерой стала политика заложничества и коллективной ответственности\, когда за уничтоженных захватчиков расстреливали ни в чем не повинных мирных жителей. \nТакая страшная участь постигла 22 марта 1943 года и жителей Хатыни. Эта небольшая белорусская деревня стала символом боли и скорби нашего многострадального народа в суровые годы Великой Отечественной Войны.
URL:https://ndtp.by/event/%d1%8d%d0%ba%d1%81%d0%ba%d1%83%d1%80%d1%81%d0%b8%d1%8f-%d0%b2-%d0%bc%d0%b5%d0%bc%d0%be%d1%80%d0%b8%d0%b0%d0%bb%d1%8c%d0%bd%d1%8b%d0%b9-%d0%ba%d0%be%d0%bc%d0%bf%d0%bb%d0%b5%d0%ba%d1%81-%d1%85/
ATTACH;FMTTYPE=image/png:https://ndtp.by/wp-content/uploads/2021/05/Group-29.png
END:VEVENT
END:VCALENDAR