BEGIN:VCALENDAR
VERSION:2.0
PRODID:-//Национальный детский технопарк - ECPv5.9.2//NONSGML v1.0//EN
CALSCALE:GREGORIAN
METHOD:PUBLISH
X-WR-CALNAME:Национальный детский технопарк
X-ORIGINAL-URL:https://ndtp.by
X-WR-CALDESC:События для Национальный детский технопарк
BEGIN:VTIMEZONE
TZID:Europe/Moscow
BEGIN:STANDARD
TZOFFSETFROM:+0300
TZOFFSETTO:+0300
TZNAME:MSK
DTSTART:20220101T000000
END:STANDARD
END:VTIMEZONE
BEGIN:VEVENT
DTSTART;VALUE=DATE:20220409
DTEND;VALUE=DATE:20220410
DTSTAMP:20260423T132900
CREATED:20220315T123122Z
LAST-MODIFIED:20230427T084613Z
UID:4887-1649462400-1649548799@ndtp.by
SUMMARY:Интерактивная программа «Технодень»
DESCRIPTION:9 апреля с 15:00 по 18:00 будет проведена интерактивная программа «Технодень»: \n\nМастер-класс «Основы управления беспилотными летательными аппаратами»;\nГрупповая профориентационная консультация «Личная профессиональная траектория»;\nМастер-класс «ЭкоЛогично» в просветительской студии «Экотехнум».
URL:https://ndtp.by/event/%d1%85i%d1%85-%d0%bc%d0%b8%d0%bd%d1%81%d0%ba%d0%b0%d1%8f-%d0%bc%d0%b5%d0%b6%d0%b4%d1%83%d0%bd%d0%b0%d1%80%d0%be%d0%b4%d0%bd%d0%b0%d1%8f-%d0%ba%d0%bd%d0%b8%d0%b6%d0%bd%d0%b0%d1%8f-%d0%b2%d1%8b%d1%81/
ATTACH;FMTTYPE=image/png:https://ndtp.by/wp-content/uploads/2021/05/Group-29.png
END:VEVENT
END:VCALENDAR