BEGIN:VCALENDAR
VERSION:2.0
PRODID:-//Национальный детский технопарк - ECPv5.9.2//NONSGML v1.0//EN
CALSCALE:GREGORIAN
METHOD:PUBLISH
X-WR-CALNAME:Национальный детский технопарк
X-ORIGINAL-URL:https://ndtp.by
X-WR-CALDESC:События для Национальный детский технопарк
BEGIN:VTIMEZONE
TZID:Europe/Moscow
BEGIN:STANDARD
TZOFFSETFROM:+0300
TZOFFSETTO:+0300
TZNAME:MSK
DTSTART:20220101T000000
END:STANDARD
END:VTIMEZONE
BEGIN:VEVENT
DTSTART;VALUE=DATE:20220519
DTEND;VALUE=DATE:20220520
DTSTAMP:20260423T121703
CREATED:20220520T061357Z
LAST-MODIFIED:20220527T114202Z
UID:5392-1652918400-1653004799@ndtp.by
SUMMARY:Участие Национального детского технопарка в фестивале «Территория детства»
DESCRIPTION:Программа\nучастия учреждения образования «Национальный детский технопарк» в\nработе Республиканского Фестиваля ОО «БРПО» «Территория детства» \nМесто проведения: Административный комплекс «пр. Победителей\, 14» (г. Минск\, пр. Победителей\, 14); \nДата проведения: 19 мая 2022 года; \n19 мая Национальный детский технопарк представит презентацию о работе интерактивных площадок по современным направлениям технического творчества: \n• робототехника (знакомство с запрограммированными робототехническими моделями из конструктора\, выполняющие сложные алгоритмы и вычисления); \n• инженерный дизайн CAD (ознакомление с системой автоматизированного проектирования\, обучение решению задач по инженерной графике средствами информационных технологий); \n• прототипирование (знакомство с основами создания и печати трехмерных моделей на 3D принтере); \n• беспилотные летательные аппараты (обучение технике пилотирования БПЛА с использованием авиасимулятора; знакомство с системами силовых установок\, управления и контроля за полетом беспилотных аппаратов). \nНа интерактивной площадке «Атомные технологии – технологии\, меняющие мир» можно будет: \n• ознакомится с принципом работы просветительского макета «Универсальный радиометр»;\n• сыграть в интеллектуальную игру «Красиво атомы сложились» на тему научной фантастики;\n• восстановить хронологию научных мировых событий посредством карточной игры «Хронограф»;\n• расшифровать «Атомные ребусы»;\n• проверить свои знания в атомной отрасли\, энергетики\, физики с помощью интерактивного экспоната «Детектор знаний»;\n• совершить виртуальную прогулку на АЭС в приложении «АЭС на ладони» и т.д. \nПриглашаем!
URL:https://ndtp.by/event/%d1%83%d1%87%d0%b0%d1%81%d1%82%d0%b8%d0%b5-%d0%bd%d0%b0%d1%86%d0%b8%d0%be%d0%bd%d0%b0%d0%bb%d1%8c%d0%bd%d0%be%d0%b3%d0%be-%d0%b4%d0%b5%d1%82%d1%81%d0%ba%d0%be%d0%b3%d0%be-%d1%82%d0%b5%d1%85%d0%bd/
ATTACH;FMTTYPE=image/png:https://ndtp.by/wp-content/uploads/2021/05/Group-29.png
END:VEVENT
END:VCALENDAR