BEGIN:VCALENDAR
VERSION:2.0
PRODID:-//Национальный детский технопарк - ECPv5.9.2//NONSGML v1.0//EN
CALSCALE:GREGORIAN
METHOD:PUBLISH
X-WR-CALNAME:Национальный детский технопарк
X-ORIGINAL-URL:https://ndtp.by
X-WR-CALDESC:События для Национальный детский технопарк
BEGIN:VTIMEZONE
TZID:Europe/Moscow
BEGIN:STANDARD
TZOFFSETFROM:+0300
TZOFFSETTO:+0300
TZNAME:MSK
DTSTART:20220101T000000
END:STANDARD
END:VTIMEZONE
BEGIN:VEVENT
DTSTART;VALUE=DATE:20220411
DTEND;VALUE=DATE:20220412
DTSTAMP:20260423T141716
CREATED:20220412T071253Z
LAST-MODIFIED:20230427T084618Z
UID:5124-1649635200-1649721599@ndtp.by
SUMMARY:Ток-шоу «Научный холодильник: банан»
DESCRIPTION:11 апреля сотрудники Информационного центра по атомной энергии Минска проведут научно-популярное ток-шоу «Научный холодильник: банан». \nБанан — это фрукт или ягода? Действительно ли бананы обладают свойствами антидепрессантов? Почему бананы любят есть спортсмены? Узнать об этом\, а также о том\, правда ли\, что бананы от природы радиоактивны\, чем отличаются разные сорта и есть ли польза в недозрелых бананах можно\, посетив мероприятие\, которое пройдёт в библиотеке «БНТУ». \nВалерий Попов\, кандидат педагогических наук\, доцент\, профессор кафедры водных видов спорта Белорусского государственного университета физической культуры\, расскажет\, какие полезные свойства есть у бананов и почему их так любят есть спортсмены. \nАрам Аветисов\, кандидат медицинских наук\, доцент\, заведующий кафедрой радиационной медицины и экологии «Белорусского государственного медицинского университета»\, расскажет о том\, какой радиоактивный элемент есть в банане и что значит понятие «банановый эквивалент». \nИван Русских\, заведующий лабораторией Республиканского центра экологии и краеведения\, расскажет\, почему банан — это не что иное\, как трава\, и можно ли вырастить бананы в наших широтах. \nТок-шоу пройдёт по адресу: ул. Я. Коласа\, 16 (библиотека «БНТУ») в 17:00.
URL:https://ndtp.by/event/%d1%82%d0%be%d0%ba-%d1%88%d0%be%d1%83-%d0%bd%d0%b0%d1%83%d1%87%d0%bd%d1%8b%d0%b9-%d1%85%d0%be%d0%bb%d0%be%d0%b4%d0%b8%d0%bb%d1%8c%d0%bd%d0%b8%d0%ba-%d0%b1%d0%b0%d0%bd%d0%b0%d0%bd/
ATTACH;FMTTYPE=image/png:https://ndtp.by/wp-content/uploads/2021/05/Group-29.png
END:VEVENT
END:VCALENDAR