BEGIN:VCALENDAR
VERSION:2.0
PRODID:-//Национальный детский технопарк - ECPv5.9.2//NONSGML v1.0//EN
CALSCALE:GREGORIAN
METHOD:PUBLISH
X-WR-CALNAME:Национальный детский технопарк
X-ORIGINAL-URL:https://ndtp.by
X-WR-CALDESC:События для Национальный детский технопарк
BEGIN:VTIMEZONE
TZID:Europe/Moscow
BEGIN:STANDARD
TZOFFSETFROM:+0300
TZOFFSETTO:+0300
TZNAME:MSK
DTSTART:20220101T000000
END:STANDARD
END:VTIMEZONE
BEGIN:VEVENT
DTSTART;VALUE=DATE:20220513
DTEND;VALUE=DATE:20220514
DTSTAMP:20260423T113343
CREATED:20220514T081337Z
LAST-MODIFIED:20220527T114210Z
UID:5329-1652400000-1652486399@ndtp.by
SUMMARY:«Открытый лекторий»
DESCRIPTION:13 мая в 18:00 состоится мероприятие в рамках проекта «Открытый лекторий». \nС учащимися образовательной смены встретится заместитель директора по научной работе РУП «Научно-производственный центр многофункциональных беспилотных комплексов» НАН Беларуси\, кандидат технических наук\, Щавлев Александр Алексеевич. \nВстреча пройдёт под названием «Многофункциональные беспилотные комплексы».
URL:https://ndtp.by/event/%d0%be%d1%82%d0%ba%d1%80%d1%8b%d1%82%d1%8b%d0%b9-%d0%bb%d0%b5%d0%ba%d1%82%d0%be%d1%80%d0%b8%d0%b9-4/
ATTACH;FMTTYPE=image/png:https://ndtp.by/wp-content/uploads/2021/05/Group-29.png
END:VEVENT
END:VCALENDAR