BEGIN:VCALENDAR
VERSION:2.0
PRODID:-//Национальный детский технопарк - ECPv5.9.2//NONSGML v1.0//EN
CALSCALE:GREGORIAN
METHOD:PUBLISH
X-WR-CALNAME:Национальный детский технопарк
X-ORIGINAL-URL:https://ndtp.by
X-WR-CALDESC:События для Национальный детский технопарк
BEGIN:VTIMEZONE
TZID:Europe/Moscow
BEGIN:STANDARD
TZOFFSETFROM:+0300
TZOFFSETTO:+0300
TZNAME:MSK
DTSTART:20220101T000000
END:STANDARD
END:VTIMEZONE
BEGIN:VEVENT
DTSTART;VALUE=DATE:20220413
DTEND;VALUE=DATE:20220414
DTSTAMP:20260423T141717
CREATED:20220415T084154Z
LAST-MODIFIED:20230427T084604Z
UID:5169-1649808000-1649894399@ndtp.by
SUMMARY:Открытый лекторий  «Беларусь космическая»
DESCRIPTION:13 апреля 2022 года в Национальном детском технопарке в рамках проекта «Открытый лекторий»\, состоится встреча с начальником центра эксплуатации Белорусской космической системы дистанционного зондирования Земли (БКСДЗ) УП «Геоинформационные системы» НАН Республики Беларусь Сивухой Василием Васильевичем.\n\nТема встречи — «Беларусь космическая». Речь пойдёт об эксплуатации БКСДЗ\, проведении научных исследований в области дистанционного зондирования Земли\, информационных и телекоммуникационных технологиях\, проектировании и новых разработках белорусских учёных в области космонавтики. \nМесто проведения: Технохостел (пр. Независимости\, 67) \nВремя: 17:45.
URL:https://ndtp.by/event/%d0%be%d1%82%d0%ba%d1%80%d1%8b%d1%82%d1%8b%d0%b9-%d0%bb%d0%b5%d0%ba%d1%82%d0%be%d1%80%d0%b8%d0%b9-%d0%b1%d0%b5%d0%bb%d0%b0%d1%80%d1%83%d1%81%d1%8c-%d0%ba%d0%be%d1%81%d0%bc%d0%b8%d1%87%d0%b5-2/
ATTACH;FMTTYPE=image/png:https://ndtp.by/wp-content/uploads/2021/05/Group-29.png
END:VEVENT
END:VCALENDAR