BEGIN:VCALENDAR
VERSION:2.0
PRODID:-//Национальный детский технопарк - ECPv5.9.2//NONSGML v1.0//EN
CALSCALE:GREGORIAN
METHOD:PUBLISH
X-WR-CALNAME:Национальный детский технопарк
X-ORIGINAL-URL:https://ndtp.by
X-WR-CALDESC:События для Национальный детский технопарк
BEGIN:VTIMEZONE
TZID:Europe/Moscow
BEGIN:STANDARD
TZOFFSETFROM:+0300
TZOFFSETTO:+0300
TZNAME:MSK
DTSTART:20250101T000000
END:STANDARD
END:VTIMEZONE
BEGIN:VEVENT
DTSTART;VALUE=DATE:20251127
DTEND;VALUE=DATE:20251221
DTSTAMP:20260422T130651
CREATED:20251125T095107Z
LAST-MODIFIED:20251126T160901Z
UID:22150-1764201600-1766275199@ndtp.by
SUMMARY:Декабрьская образовательная смена
DESCRIPTION:Декабрьская образовательная смена\nСроки проведения: 27 ноября — 20 декабря 2025 года. \n\n	\n	Положение об образовательной смене\n\n\n\n\n	\n	Списочный состав групп учащихся\, зачисленных в УО Национальный детский технопарк для обучения с 27.11.2025г. по 20.12.2025г.
URL:https://ndtp.by/event/%d0%bd%d0%be%d1%8f%d0%b1%d1%80%d1%8c%d1%81%d0%ba%d0%b0%d1%8f-%d0%be%d0%b1%d1%80%d0%b0%d0%b7%d0%be%d0%b2%d0%b0%d1%82%d0%b5%d0%bb%d1%8c%d0%bd%d0%b0%d1%8f-%d1%81%d0%bc%d0%b5%d0%bd%d0%b0-2/
ATTACH;FMTTYPE=image/png:https://ndtp.by/wp-content/uploads/2021/05/Group-29.png
END:VEVENT
END:VCALENDAR