BEGIN:VCALENDAR
VERSION:2.0
PRODID:-//Национальный детский технопарк - ECPv5.9.2//NONSGML v1.0//EN
CALSCALE:GREGORIAN
METHOD:PUBLISH
X-WR-CALNAME:Национальный детский технопарк
X-ORIGINAL-URL:https://ndtp.by
X-WR-CALDESC:События для Национальный детский технопарк
BEGIN:VTIMEZONE
TZID:Europe/Moscow
BEGIN:STANDARD
TZOFFSETFROM:+0300
TZOFFSETTO:+0300
TZNAME:MSK
DTSTART:20220101T000000
END:STANDARD
END:VTIMEZONE
BEGIN:VEVENT
DTSTART;VALUE=DATE:20220815
DTEND;VALUE=DATE:20220916
DTSTAMP:20260423T115626
CREATED:20220919T104911Z
LAST-MODIFIED:20221104T085938Z
UID:6785-1660521600-1663286399@ndtp.by
SUMMARY:Набор в объединения по интересам
DESCRIPTION:Объединения по интересам ждут ребят с нового учебного года\nНациональный детский технопарк — это не только образовательные смены с участием джуниоров. Наше учреждение образования направлено как на развитие одарённых ребят старших классов\, так и на поддержку разносторонних интересов и стремлений ребят помладше. \nС 15 августа в Национальном детском технопарка работает приемная комиссия по записи в объединения по интересам. \nИх насчитывается больше 20\, и главным преимуществом объединений по интересам является их многогранность. Каждый ребёнок может найти для себя что-то\, согласно своим способностям и интересам: от кружков «Робототехники» и «Информатики и программирования» для ребят с более математическим складом ума до объединений по фотографии и веб-дизайну для творческих натур. \nОзнакомиться с полным перечнем объединений по интересам можно тут: https://ndtp.by/clubs/ \nМы приняли во внимание много факторов и постарались создать кружки как можно более уникальные и подходящие для всех ребят. Поэтому среди наших объединений по интересам Вы найдёте как платные\, так и бесплатные курсы. \nНапоминаем\, что 3 сентября состоится День открытых дверей\, где Вы сможете узнать всю необходимую информацию касаемо того или иного объединения\, а также задать все интересующие Вас вопросы.\nЖдём 3 сентября в 10:00 на Славинского 12!
URL:https://ndtp.by/event/%d0%bd%d0%b0%d0%b1%d0%be%d1%80-%d0%b2-%d0%be%d0%b1%d1%8a%d0%b5%d0%b4%d0%b8%d0%bd%d0%b5%d0%bd%d0%b8%d1%8f-%d0%bf%d0%be-%d0%b8%d0%bd%d1%82%d0%b5%d1%80%d0%b5%d1%81%d0%b0%d0%bc/
ATTACH;FMTTYPE=image/png:https://ndtp.by/wp-content/uploads/2021/05/Group-29.png
END:VEVENT
END:VCALENDAR