BEGIN:VCALENDAR
VERSION:2.0
PRODID:-//Национальный детский технопарк - ECPv5.9.2//NONSGML v1.0//EN
CALSCALE:GREGORIAN
METHOD:PUBLISH
X-WR-CALNAME:Национальный детский технопарк
X-ORIGINAL-URL:https://ndtp.by
X-WR-CALDESC:События для Национальный детский технопарк
BEGIN:VTIMEZONE
TZID:Europe/Moscow
BEGIN:STANDARD
TZOFFSETFROM:+0300
TZOFFSETTO:+0300
TZNAME:MSK
DTSTART:20220101T000000
END:STANDARD
END:VTIMEZONE
BEGIN:VEVENT
DTSTART;VALUE=DATE:20220524
DTEND;VALUE=DATE:20220526
DTSTAMP:20260423T115626
CREATED:20220526T061438Z
LAST-MODIFIED:20220527T114153Z
UID:5437-1653350400-1653523199@ndtp.by
SUMMARY:Молодежный форум выпускников Национального детского технопарка
DESCRIPTION:ПРОГРАММАпроведения молодежного форума выпускников учреждения образования «Национальный детский технопарк» \nМесто проведения: учреждение образования «Национальный детский технопарк» (г. Минск\, ул. Славинского\,12)\, ГУО «Минский городской образовательно-оздоровительный центр «Лидер»Время проведения: 24-25 мая 2022 года \n24 мая 2022 года15.30 – 17.30 – заезд/регистрация участниковмонтаж выставки-презентации проектов17.30 – 18.30 – заселение (ГУО «Минский городской образовательно-оздоровительный центр «Лидер»)19.00 – 20.00 – ужин20.00 – 21.30 – творческий вечер \n25 мая 2022 года08.30 – 09.00 – завтрак10.00 –11.30 – посещение Национальной академии наук Беларуси\, Опытного завода «Политехник» Белорусского национального технического университета12.00 – 14.30 – работа выставки-презентации проектов выпускников учреждения образования «Национальный детский технопарк»13.00 –14.30 – Открытый диалог «Наука. Молодежь. Будущее»с участием Министра образования Республики Беларусь Иванца А.И.\, Председателя Президиума Национальной академии наук Беларуси Гусакова В.Г.\,директора учреждения образования «Национальный детский технопарк» Сачко С.М.14.40 –15.30 – обед16.00 –16.30 – закрытие Форума
URL:https://ndtp.by/event/%d0%bc%d0%be%d0%bb%d0%be%d0%b4%d0%b5%d0%b6%d0%bd%d1%8b%d0%b9-%d1%84%d0%be%d1%80%d1%83%d0%bc-%d0%b2%d1%8b%d0%bf%d1%83%d1%81%d0%ba%d0%bd%d0%b8%d0%ba%d0%be%d0%b2-%d0%bd%d0%b0%d1%86%d0%b8%d0%be%d0%bd/
ATTACH;FMTTYPE=image/png:https://ndtp.by/wp-content/uploads/2021/05/Group-29.png
END:VEVENT
END:VCALENDAR