BEGIN:VCALENDAR
VERSION:2.0
PRODID:-//Национальный детский технопарк - ECPv5.9.2//NONSGML v1.0//EN
CALSCALE:GREGORIAN
METHOD:PUBLISH
X-WR-CALNAME:Национальный детский технопарк
X-ORIGINAL-URL:https://ndtp.by
X-WR-CALDESC:События для Национальный детский технопарк
BEGIN:VTIMEZONE
TZID:Europe/Moscow
BEGIN:STANDARD
TZOFFSETFROM:+0300
TZOFFSETTO:+0300
TZNAME:MSK
DTSTART:20260101T000000
END:STANDARD
END:VTIMEZONE
BEGIN:VEVENT
DTSTART;VALUE=DATE:20260330
DTEND;VALUE=DATE:20260402
DTSTAMP:20260422T132821
CREATED:20251212T093347Z
LAST-MODIFIED:20251212T093347Z
UID:22754-1774828800-1775087999@ndtp.by
SUMMARY:Республиканский конкурс «Инженеры будущего»
DESCRIPTION:Республиканский конкурс «Инженеры будущего»\nДаты проведения: 30 марта 2026 г. — 1 апреля 2026 г. \n  \nРеспубликанский конкурс технического творчества учащейся молодежи «Инженеры будущего» (далее – Республиканский конкурс) проводится в целях привлечения детей и молодежи к техническому творчеству\, совершенствования системы профессиональной ориентации учащейся молодежи\, выявления и поддержки одаренной молодежи Республики Беларусь. \nОсновными задачами Республиканского конкурса являются: \nразвитие творческих способностей учащихся\, содействие их профессиональному самоопределению и самореализации; \nформирование у учащихся патриотизма и гражданственности\, стремлений приумножать достижения Республики Беларусь через собственные успехи в инновационном\, техническом творчестве; \nраспространение передового педагогического и творческого опыта\, эффективных и инновационных форм организации образовательного процесса и воспитательной работы с молодежью\, совершенствование профессионального мастерства педагогов по развитию творческих способностей учащихся. \nОрганизатором Республиканского конкурса является Министерство образования Республики Беларусь. \nКоординацию деятельности по организационному и методическому обеспечению подготовки и проведения Республиканского конкурса осуществляет учреждение образования «Национальный детский технопарк». \nРеспубликанский конкурс проводится в четыре этапа: \nпервый этап (отборочный) – в учреждениях образования; \nвторой этап (отборочный) – районный\, районный для городов\, имеющих деление на районы\, городской (кроме г. Минска); \nтретий этап (отборочный) – областной\, Минский городской; \nчетвертый этап (заключительный) – республиканский. \nСроки проведения первого\, второго и третьего этапов Республиканского конкурса предшествуют срокам проведения заключительного этапа и устанавливаются учреждениями образования\, структурными подразделениями областных (Минского городского) исполнительных комитетов\, осуществляющих государственно-властные полномочия в сфере образования. \nЗаключительный этап Республиканского конкурса проводится 30 марта – 1 апреля 2026 года в учреждении образования «Национальный детский технопарк». \nРеспубликанский конкурс проводится по следующим номинациям: \n«Архитектура и дизайн»; \n«Беспилотные летательные аппараты»; \n«Веб-технологии»; \n«Графический дизайн»; \n«Дополненная и виртуальная реальность»; \n«Инженерная экология»; \n«Инженерный дизайн CAD»; \n«Искусственный интеллект»; \n«Прототипирование»; \n«Сетевое проектирование и системная инженерия»; \n«Электроника». \nУчастниками Республиканского конкурса являются учащиеся\, которые осваивают содержание образовательной программы дополнительного образования детей и молодежи и являются учащимися учреждений общего среднего образования\, а также учащиеся учреждений общего среднего образования в возрасте от 11 до 18 лет (включительно). \n  \n  \n  \n  \n  \n  \n  \n  \n  \n  \n  \n 
URL:https://ndtp.by/event/20260330/
ATTACH;FMTTYPE=image/png:https://ndtp.by/wp-content/uploads/2021/05/Group-29.png
END:VEVENT
END:VCALENDAR