BEGIN:VCALENDAR
VERSION:2.0
PRODID:-//Национальный детский технопарк - ECPv5.9.2//NONSGML v1.0//EN
CALSCALE:GREGORIAN
METHOD:PUBLISH
X-WR-CALNAME:Национальный детский технопарк
X-ORIGINAL-URL:https://ndtp.by
X-WR-CALDESC:События для Национальный детский технопарк
BEGIN:VTIMEZONE
TZID:Europe/Moscow
BEGIN:STANDARD
TZOFFSETFROM:+0300
TZOFFSETTO:+0300
TZNAME:MSK
DTSTART:20260101T000000
END:STANDARD
END:VTIMEZONE
BEGIN:VEVENT
DTSTART;VALUE=DATE:20260204
DTEND;VALUE=DATE:20260218
DTSTAMP:20260422T144143
CREATED:20260114T100508Z
LAST-MODIFIED:20260114T102828Z
UID:23196-1770163200-1771372799@ndtp.by
SUMMARY:Школа олимпиадного движения
DESCRIPTION:Школа олимпиадного движения \n(учебная смена по учебным предметам «Математика»\, «Физика»\, «Химия»\, «Биология»\, «Информатика»\, «Астрономия»\, «География»)\nС 4 по 17 февраля 2026 года в Национальном детском технопарке пройдет учебная смена по учебным предметам «Математика»\, «Физика»\, «Химия»\, «Биология»\, «Информатика»\, «Астрономия»\, «География» (Школа олимпиадного движения). \nСроки проведения: 4-17 февраля 2026 года. \nОбщее количество участников: 70 учащихся учреждений общего среднего образования (независимо от класса)\, прошедших отбор по итогам проведения учебных смен в дистанционной форме. \nРегистрация и заселение участников учебной смены по учебным предметам «Математика»\, «Физика»\, «Химия»\, «Биология»\, «Информатика»\, «Астрономия»\, «География» будет проходить 4 февраля 2026 года по адресу: г. Минск\, проезд Университетский\, 7. Время: с 12.00 до 15.00 (первый день смены). \n *Стоянка для автомобилей предусмотрена. \nРегистрация учащихся осуществляется непосредственно в присутствии законного представителя или преподавателя при наличии командировочного удостоверения и копии приказа. Регистрация без законного представителя возможна при наличии соответствующего заявления в первый день смены. Обращаем внимание\, что вход в жилой сектор Технодома разрешен только в сменной обуви (родителям/законным представителям рекомендуется иметь бахилы). \nПри регистрации на учебную смену в Детский технопарк в день заселения вам необходимо предоставить следующие документы: \n\nсогласие законных представителей/родителей учащегося –документ.\n\nДанное согласие надо распечатать\, ознакомиться с ним\, подписать и предоставить при регистрации в день заселения;  \n\nсвидетельство о рождении учащегося (или иной документ\, удостоверяющий личность) + копию свидетельства;\nмедицинская справка о состоянии здоровья учащегося с указанием группы здоровья и группы по физкультуре (форма 1 здр/у-10);\nсправка об отсутствии контактов с инфекционными больными (выданная не ранее\, чем за три дня до заезда).\n\nНеобходимая информация по участию в учебной смене по учебным предметам «Математика»\, «Физика»\, «Химия»\, «Биология»\, «Информатика»\, «Астрономия»\, «География» находится в разделе «Для поступивших» https://ndtp.by/for_incoming_students/ \nОтъезд учащихся осуществляется с 16.00 до 19.00 (последний день смены). Забрать учащегося может законный представитель или преподаватель при наличии командировочного удостоверения и копии приказа. Выезд возможен без законного представителя при наличии соответствующего заявления. \nВАЖНО! \nЗанятия по программе общего среднего образования\, занятия в бассейне проводиться не будут. \nДеловой стиль одежды обязателен при посещении учебных занятий\, а также официальных и торжественных мероприятий. \nВ зимний период для соблюдения санитарно-гигиенических норм необходима сменная обувь\, которую носят в специальном мешке-рюкзаке или сумке (для сменной обуви при деловом стиле подойдут классические модели из натуральной кожи или замши\, которые соответствуют деловому стилю). \nРаспорядок дня учащихся учебной смены по учебным предметам «Математика»\, «Физика»\, «Химия»\, «Биология»\, «Информатика»\, «Астрономия»\, «География» в приложении. \n\n	\n	Согласие законных представителей / родителей учащихся\n\n\n\n\n	\n	Режим дня учащихся учебной смены в очной форме
URL:https://ndtp.by/event/%d1%88%d0%ba%d0%be%d0%bb%d0%b0-%d0%be%d0%bb%d0%b8%d0%bc%d0%bf%d0%b8%d0%b0%d0%b4%d0%bd%d0%be%d0%b3%d0%be-%d0%b4%d0%b2%d0%b8%d0%b6%d0%b5%d0%bd%d0%b8%d1%8f/
ATTACH;FMTTYPE=image/png:https://ndtp.by/wp-content/uploads/2021/05/Group-29.png
END:VEVENT
END:VCALENDAR