BEGIN:VCALENDAR
VERSION:2.0
PRODID:-//Национальный детский технопарк - ECPv5.9.2//NONSGML v1.0//EN
CALSCALE:GREGORIAN
METHOD:PUBLISH
X-WR-CALNAME:Национальный детский технопарк
X-ORIGINAL-URL:https://ndtp.by
X-WR-CALDESC:События для Национальный детский технопарк
BEGIN:VTIMEZONE
TZID:Europe/Moscow
BEGIN:STANDARD
TZOFFSETFROM:+0300
TZOFFSETTO:+0300
TZNAME:MSK
DTSTART:20250101T000000
END:STANDARD
END:VTIMEZONE
BEGIN:VEVENT
DTSTART;VALUE=DATE:20250903
DTEND;VALUE=DATE:20250927
DTSTAMP:20260422T225105
CREATED:20250825T134855Z
LAST-MODIFIED:20250829T124115Z
UID:20486-1756857600-1758931199@ndtp.by
SUMMARY:Сентябрьская образовательная смена
DESCRIPTION:Сентябрьская образовательная смена\n Положение об образовательной смене \nСписочный состав участников\, допущенных ко второму этапу отбора учащихся для обучения в Национальном детском технопарке с 03.09.2025г. по 26.09.2025г. \nМеста проведения \n Списочный состав групп учащихся\, зачисленных в УО Национальный детский технопарк для обучения с 03.09.2025г. по 26.09.2025г.
URL:https://ndtp.by/event/092025/
ATTACH;FMTTYPE=image/png:https://ndtp.by/wp-content/uploads/2021/05/Group-29.png
END:VEVENT
END:VCALENDAR