BEGIN:VCALENDAR
VERSION:2.0
PRODID:-//Национальный детский технопарк - ECPv5.9.2//NONSGML v1.0//EN
CALSCALE:GREGORIAN
METHOD:PUBLISH
X-WR-CALNAME:Национальный детский технопарк
X-ORIGINAL-URL:https://ndtp.by
X-WR-CALDESC:События для Национальный детский технопарк
BEGIN:VTIMEZONE
TZID:Europe/Moscow
BEGIN:STANDARD
TZOFFSETFROM:+0300
TZOFFSETTO:+0300
TZNAME:MSK
DTSTART:20250101T000000
END:STANDARD
END:VTIMEZONE
BEGIN:VEVENT
DTSTART;VALUE=DATE:20250815
DTEND;VALUE=DATE:20250907
DTSTAMP:20260423T004007
CREATED:20250825T134541Z
LAST-MODIFIED:20250825T134541Z
UID:20483-1755216000-1757203199@ndtp.by
SUMMARY:Наборе в объединения по интересам
DESCRIPTION:Наборе в объединения по интересам\nМечтаете\, чтобы ваш ребенок создавал\, изобретал и исследовал? Национальный детский технопарк объявляет о наборе учащихся в объединения по интересам на новый 2025/2026 учебный год! \nМы предлагаем захватывающие направления для юных исследователей и изобретателей: \n\nИнформационные и компьютерные технологии: мир программирования\, разработки приложений и веб-сайтов ждет юных гениев!\nТехническое моделирование и конструирование: воплотите свои самые смелые идеи в реальность\, создавая уникальные модели и конструкции!\nСпортивно-техническое направление (картинг\, авто-\, авиа- и судомоделизм): почувствуйте себя конструктором и пилотом\, создавая собственные гоночные машины\, самолеты и корабли!\nБиолого-химическое направление (биохимия\, геохимия\, экомир) не просто изучай науку\, а создавай её\, проводя исследования и эксперименты!\n\nПериод записи: с 15 августа по 6 сентября 2025 года!  \nПриходите к нам по адресам:  \nул. Славинского\, 12\, фойе 1-го этажа.График работы пункта записи:  Пн-Пт с 11:00 – 19:00\, Сб-Вс с 10:00 – 18:00 \nул. Франциска Скорины\, 25к3\, холл 1-го этажа.График работы пункта записи: Пн–Пт: 09:00–17:00 \nПодробную информацию о направлениях вы найдете на нашем сайте\, онлайн-регистрация уже открыта!  \nВыбирайте интересующее направление\, заполняйте простую форму – и добро пожаловать в нашу дружную команду юных изобретателей! \nОстались вопросы? Звоните! 8(017)-337-60-17; 8(017)-311-24-75. \nНаши опытные педагоги помогут вам выбрать кружок по интересам и ответят на все ваши вопросы. \nНе упустите шанс раскрыть потенциал вашего ребенка! Ждем вас! Будет интересно!
URL:https://ndtp.by/event/15082025/
ATTACH;FMTTYPE=image/png:https://ndtp.by/wp-content/uploads/2021/05/Group-29.png
END:VEVENT
END:VCALENDAR