BEGIN:VCALENDAR
VERSION:2.0
PRODID:-//Национальный детский технопарк - ECPv5.9.2//NONSGML v1.0//EN
CALSCALE:GREGORIAN
METHOD:PUBLISH
X-WR-CALNAME:Национальный детский технопарк
X-ORIGINAL-URL:https://ndtp.by
X-WR-CALDESC:События для Национальный детский технопарк
BEGIN:VTIMEZONE
TZID:Europe/Moscow
BEGIN:STANDARD
TZOFFSETFROM:+0300
TZOFFSETTO:+0300
TZNAME:MSK
DTSTART:20250101T000000
END:STANDARD
END:VTIMEZONE
BEGIN:VEVENT
DTSTART;VALUE=DATE:20250605
DTEND;VALUE=DATE:20250629
DTSTAMP:20260423T034618
CREATED:20250617T074750Z
LAST-MODIFIED:20250617T074750Z
UID:19462-1749081600-1751155199@ndtp.by
SUMMARY:Июньская образовательная смена
DESCRIPTION:Июньская образовательная смена\n Положение об образовательной смене \nСписочный состав участников\, допущенных ко второму этапу отбора учащихся для обучения в Национальном детском технопарке с 05.06.2025г. по 28.06.2025г. \nМеста проведения \nСписочный состав групп учащихся\, зачисленных в УО Национальный детский технопарк для обучения с 05.06.2025г. по 28.06.2025г.
URL:https://ndtp.by/event/062025/
ATTACH;FMTTYPE=image/png:https://ndtp.by/wp-content/uploads/2021/05/Group-29.png
END:VEVENT
BEGIN:VEVENT
DTSTART;VALUE=DATE:20250611
DTEND;VALUE=DATE:20250627
DTSTAMP:20260423T034618
CREATED:20250506T121928Z
LAST-MODIFIED:20250609T091137Z
UID:18832-1749600000-1750982399@ndtp.by
SUMMARY:Молодёжный фестиваль инновационных технологий
DESCRIPTION:Молодёжный фестиваль инновационных технологий\nС 11 по 26 июня 2025 года в учреждении образования «Национальный детский технопарк» будет проходить Молодежный фестиваль инновационных технологий. \nФестиваль проводится в целях развития у детей и молодёжи творческих способностей и интереса к научной деятельности в области технического творчества\, повышения престижа и популяризации научно-технических знаний\, выявления и поддержки талантливой молодежи. \nОрганизатором Фестиваля является Министерство образования Республики Беларусь. \nВ рамках Фестиваля пройдут следующие мероприятия: \n\nМинский открытый роботурнир.Сроки проведения: с 12 по 14 июня 2025 года.\nС 12 по 14 июня Национальный детский технопарк превратится в арену для битвы роботов. Именно в Детском технопарке\, в рамках Молодежного фестиваля иновационных технологий\,  пройдёт XII Минский открытый роботурнир.Роботурнир – это не просто соревнование\, а настоящий праздник современных технологий\, инженерной мысли и возможность продемонстрировать свои навыки и побороться за звание лучших.Участниками этого яркого события станет молодёжь из Беларуси и различных регионов России. \nИ это еще не все! Минский роботурнир – это отборочный этап на фестиваль РобоФинист 2025\, так что ставки высоки\, а борьба обещает быть напряженной и захватывающей! Не пропустите это грандиозное событие! \nhttps://robofinist.ru/event/1415 \n\n\n\nКонгресс инновационного образования.Сроки проведения: с 12 по 13 июня 2025 года.Регистрация для спикеров открыта до 30 мая 2025 года по ссылке: https://forms.gle/Uam5SaDJqgBhDFBdA\n\n\nМолодежный хакатон «ПроТехно».Сроки проведения: с 16 по 26 июня 2025 года.\n\nПодробная информация о Молодежном фестивале инновационных технологий размещена на сайте Национального детского технопарка в разделе «Международные и республиканские мероприятия» \nДополнительную информацию можно получить у заместителя директора Национального детского технопарка Игнатчика Александра Ивановича (почта: alex.ignatchik@yandex.by\, раб. тел. 311-24 -56)
URL:https://ndtp.by/event/11062025/
ATTACH;FMTTYPE=image/png:https://ndtp.by/wp-content/uploads/2021/05/Group-29.png
END:VEVENT
END:VCALENDAR