BEGIN:VCALENDAR
VERSION:2.0
PRODID:-//Национальный детский технопарк - ECPv5.9.2//NONSGML v1.0//EN
CALSCALE:GREGORIAN
METHOD:PUBLISH
X-WR-CALNAME:Национальный детский технопарк
X-ORIGINAL-URL:https://ndtp.by
X-WR-CALDESC:События для Национальный детский технопарк
BEGIN:VTIMEZONE
TZID:Europe/Moscow
BEGIN:STANDARD
TZOFFSETFROM:+0300
TZOFFSETTO:+0300
TZNAME:MSK
DTSTART:20230101T000000
END:STANDARD
END:VTIMEZONE
BEGIN:VEVENT
DTSTART;VALUE=DATE:20231003
DTEND;VALUE=DATE:20231027
DTSTAMP:20260424T105330
CREATED:20230921T064539Z
LAST-MODIFIED:20231009T112509Z
UID:10864-1696291200-1698364799@ndtp.by
SUMMARY:Октябрьская образовательная смена
DESCRIPTION:Октябрьская образовательная смена\n Положение об образовательной смене \nСписочный состав участников\, допущенных ко второму этапу отбора учащихся для обучения в Национальном детском технопарке с 03.10.2023г. по 26.10.2023г. \nМеста проведения \n Списочный состав групп учащихся\, зачисленных в УО Национальный детский технопарк для обучения с 03.10.2023г. по 26.10.2023г.
URL:https://ndtp.by/event/102023/
ATTACH;FMTTYPE=image/png:https://ndtp.by/wp-content/uploads/2021/05/Group-29.png
END:VEVENT
BEGIN:VEVENT
DTSTART;VALUE=DATE:20231017
DTEND;VALUE=DATE:20231018
DTSTAMP:20260424T105330
CREATED:20231013T121459Z
LAST-MODIFIED:20231025T074229Z
UID:11437-1697500800-1697587199@ndtp.by
SUMMARY:Конкурс инсценированной песни «Белорусский стандарт»
DESCRIPTION:Конкурс инсценированной песни «Белорусский стандарт»\n17 октября в Национальном детском технопарке пройдёт конкурс инсценированной песни «Белорусский стандарт»! \nКаждый профиль выбирает себе песню белорусского исполнителя: \n\nо Беларуси;\nо Родине;\nс военно-патриотической направленностью.\n\nДжуниорам предстоит инсценировать выбранную композицию в своем выступлении. \nКак у них это выйдет\, увидим 17 октября!
URL:https://ndtp.by/event/17102023/
ATTACH;FMTTYPE=image/png:https://ndtp.by/wp-content/uploads/2021/05/Group-29.png
END:VEVENT
END:VCALENDAR