BEGIN:VCALENDAR
VERSION:2.0
PRODID:-//Национальный детский технопарк - ECPv5.9.2//NONSGML v1.0//EN
CALSCALE:GREGORIAN
METHOD:PUBLISH
X-WR-CALNAME:Национальный детский технопарк
X-ORIGINAL-URL:https://ndtp.by
X-WR-CALDESC:События для Национальный детский технопарк
BEGIN:VTIMEZONE
TZID:Europe/Moscow
BEGIN:STANDARD
TZOFFSETFROM:+0300
TZOFFSETTO:+0300
TZNAME:MSK
DTSTART:20230101T000000
END:STANDARD
END:VTIMEZONE
BEGIN:VEVENT
DTSTART;VALUE=DATE:20230607
DTEND;VALUE=DATE:20230701
DTSTAMP:20260424T170550
CREATED:20230530T073523Z
LAST-MODIFIED:20230817T072703Z
UID:9495-1686096000-1688169599@ndtp.by
SUMMARY:Июньская образовательная смена
DESCRIPTION:Июньская образовательная смена\n Положение об образовательной смене \nСписочный состав участников\, допущенных ко второму этапу отбора учащихся для обучения в Национальном детском технопарке с 07.06.2023г. по 30.06.2023г. \nМеста проведения \n Списочный состав групп учащихся\, зачисленных в УО Национальный детский технопарк для обучения с 07.06.2023г. по 30.06.2023г.
URL:https://ndtp.by/event/062023/
ATTACH;FMTTYPE=image/png:https://ndtp.by/wp-content/uploads/2021/05/Group-29.png
END:VEVENT
BEGIN:VEVENT
DTSTART;VALUE=DATE:20230608
DTEND;VALUE=DATE:20230627
DTSTAMP:20260424T170550
CREATED:20230609T115120Z
LAST-MODIFIED:20230817T072658Z
UID:9611-1686182400-1687823999@ndtp.by
SUMMARY:Образовательная мастерская «Стратегия разработки инновационных проектов»
DESCRIPTION:Образовательная мастерская «Стратегия разработки инновационных проектов»\nС 7 по 30 июня пройдёт июньская образовательная смена\, закрывающая 2022/2023 учебный год! \nПоскольку в этом месяце джуниоры не будут посещать школьные занятия\, была разработана образовательная мастерская «Стратегия разработки инновационных проектов». \nПрограмма была разработана под руководством Любови Шумской — профессора кафедры инноватики и предпринимательской деятельности экономического факультета БГУ. \nКурс направлен на: \n\nразвитие у джуниоров познавательной активности;\nулучшение навыков проектной деятельности;\nсовершенствование коммуникативных и организаторских компетенций.\n\nКурс состоит из лекций\, мастер-классов\, кейсов\, деловых игр\, практикумов и защиты инновационных проектов. \nСодержание учебного материала состоит из: \n\nВведения в образовательскую мастерскую «Стратегия разработки инновационных проектов»;\nОсновы командообразования;\nНормативно-правовая регламентация функционирования УБК (Учебная бизнес-компания);\nРегламентация коммуникативно-экономического воздействия УБК с деловыми партнерами;\nРазработка стратегии реализации бизнес-идеи в условиях УБК;\nТехнологии коммуникативно-экономического воздействия УБК с деловыми партнерами;\nТехнологии инновационного проекта;\nПанельные дискуссии «Битва идей» и «Создаем модели коммуникативно-экономического взаимодействия УБК с партнерами вместе!»;\nПитчинг — презентация инновационных проектов учащихся;\nПодведение итогов.
URL:https://ndtp.by/event/0730062023/
ATTACH;FMTTYPE=image/png:https://ndtp.by/wp-content/uploads/2021/05/Group-29.png
END:VEVENT
BEGIN:VEVENT
DTSTART;VALUE=DATE:20230610
DTEND;VALUE=DATE:20230613
DTSTAMP:20260424T170550
CREATED:20230605T084825Z
LAST-MODIFIED:20230817T072651Z
UID:9548-1686355200-1686614399@ndtp.by
SUMMARY:Семинар-практикум «Stem-образование: платформа по выявлению\, поддержке и дальнейшему сопровождению одаренных учащихся»
DESCRIPTION:Семинар-практикум «Stem-образование: платформа по выявлению\, поддержке и дальнейшему сопровождению одаренных учащихся»\nВ целях популяризации и содействия развитию технического творчества детей и молодежи 10-12 июня 2023 года в упреждении образования «Национальный детский технопарк» пройдет X Минский открытый роботурнир\, в котором будут принимать участие учащиеся из Республики Беларусь\, Российской Федерации и Китайской Народной Республики. \nВ рамках роботурнира приглашаем вас принять участие в Международном научно-практическом семинаре-практикуме «Stem-образование: платформа по выявлению\, поддержке и дальнейшему сопровождению одаренных учащихся»\, который состоится 12 июня 2023 года. \nМероприятие пройдет в очном формате по адресу: г. Минск\, ул. Университетский проезд\, д.7\, (актовый зал учреждения образования «Национальный детский технопарк») \nПросим до 08.06.2023 г. заинтересованным лицам пройти электронную регистрацию для допуска к участию по ссылке: https://forms.gle/MBeyC3FkwpRxHWNU9 \n Программа \nПРОГРАММА Международного научно-практического семинара-практикума «STEM-образование: платформа по выявлению\, поддержке и дальнейшему сопровождению одаренных учащихся» \nМесто проведения: учреждение образования «Национальный детский технопарк» (г. Минск\, Университетский проезд\, 7)\nДата проведения: 12 июня 2023 года. \n  \n10:00-11:00 \nПрибытие участников\, регистрация\, посещения Кубка по образовательной робототехнике (г. Минск\, Университетский проезд\, 7). \n11:00 – Вступительное приветственное слово.\nЗаместитель директора по воспитательной работе УО «Национальный детский технопарк» Игнатчик Александр Иванович \n11:05-11:15         \nБабич Владислав Владимирович (г. Клецк\, преподаватель STEM-центра Рассветовской средней школы Клецкого района)\nОт сохи до IT: как дети осваивают деревенскую «цифру \n11:15-11:25         \nСоколов Вячеслав Александрович (г. Москва\, Генеральный Директор БСКомп\, руководитель проекта — Образовательный робототехнический конструктор)\nИспользование в учебном процессе Образовательного робототехнического конструктора НикиРобот для учащихся младшей\, средней и старшей школы. Примеры использования и программирования в различных средах. \n11:25-11:35         \nМаргарита Калачева (г. Санкт-Петербург\, руководитель направления молодежных соревнований ГК Геоскан)\nСоревнования по робототехнике на платформе квадрокоптера Геоскан Пионер \n11:35-11:45         \nМихаил Луцкий (г. Санкт-Петербург\, руководитель отдела образовательных проектов ГК Геоскан)\nГеоскан Пионер: платформа для технологического образования \n11:45-11:55         \nКудрявцев Валерий Рудольфович (г. Москва\, руководитель ресурсного центра по робототехнике и куратор направления предпрофобразования «Нейротехнологии» в ГАОУ «Школа 548» г.Москва\, методист компании BiTronics Lab\, организатор фестиваля «Нейробот»).\nУправление роботами с помощью био-нейро сигналов. Проведение соревнований по биоуправлению роботами. \n  \n11:55-12:15 – Кофе-пауза \n  \n12:15-12:25         \nШандаров Евгений Станиславович\n(г.Томск\, заведующий лабораторией робототехники и ИИ в Томском государственном университете систем управления и радиоэлектроники. Российский представитель RoboCup Junior).\nМеждународный чемпионат по робототехнике и ИИ RoboCup в России. \n12:25-12:35\nКефер Виктория Валериевна (г. Красноярск\, региональный представитель)\nПодходы к подготовке команд к участию в соревнованиях по робототехнике \n12:35-13:45         \nФилиппов Сергей Александрович (г.Санкт-Петербург\, руководитель центра робототехники Государственного бюджетного общеобразовательного учреждения «Президентский физико-математический лицей № 239»)\nОпыт развития образовательной среды в сфере робототехники \n13:45-13:55         \nКасьяник Валерий Викторович (г. Брест\, заведующий лабораторией Промышленная робототехника Учреждения образования «Брестский государственный технический университет»)\nОрганизация подготовки инженерных кадров по робототехнике на базе научно-практической лаборатории ВУЗа \n13:55-14:05         \nКиселев Михаил Михайлович (г. Санкт-Петербург\, генеральный директор ООО «КиберТех» (проект ТРИК))\nНовые вызовы для средств обучения \n14:05-14:15 \nМельникова Юлия Сергеевна (Республика Татарстан\, г. Иннополис руководитель сектора организации олимпиад)\nОлимпиадное движение как условие повышения качества образования и система профориентации школьников \n  \n14:15-14:30 – Кофе-пауза \n  \n14:30 – 15:10\nБондаренко Роман Валериевич\, Президент Ассоциации 3D образования\, руководитель лаборатории 3D образования ЦНТИ СПбПУ Петра Великого Образовательный проект «Инженеры будущего: 3D-технологии в образовании».\nПрактика проведения всероссийской олимпиады для школьников по 3D технологиям. Олимпиада в международном формате\, национальный этап в Республике Беларусь \n15:10 – 16:00\nХаламов Владислав Николаевич\, директор Российской ассоциации работников и организаций\, использующих конструкторы образовательной робототехники в учебно-воспитательном процессе (РАОР)\nПрактика проведения Всероссийских робототехнических соревнований «Инженерные кадры России» (ИКаР) как условие повышения престижа инженерных профессий у учащихся. Регламенты ИКаР как основа для учреждения робототехнических соревнований Союзного государства.
URL:https://ndtp.by/event/1012062023/
ATTACH;FMTTYPE=image/png:https://ndtp.by/wp-content/uploads/2021/05/Group-29.png
END:VEVENT
END:VCALENDAR