BEGIN:VCALENDAR
VERSION:2.0
PRODID:-//Национальный детский технопарк - ECPv5.9.2//NONSGML v1.0//EN
CALSCALE:GREGORIAN
METHOD:PUBLISH
X-WR-CALNAME:Национальный детский технопарк
X-ORIGINAL-URL:https://ndtp.by
X-WR-CALDESC:События для Национальный детский технопарк
BEGIN:VTIMEZONE
TZID:Europe/Moscow
BEGIN:STANDARD
TZOFFSETFROM:+0300
TZOFFSETTO:+0300
TZNAME:MSK
DTSTART:20220101T000000
END:STANDARD
END:VTIMEZONE
BEGIN:VEVENT
DTSTART;VALUE=DATE:20221031
DTEND;VALUE=DATE:20221105
DTSTAMP:20260425T062451
CREATED:20220922T084653Z
LAST-MODIFIED:20221031T080409Z
UID:6820-1667174400-1667606399@ndtp.by
SUMMARY:«Умные каникулы» в ИЦАЭ
DESCRIPTION:«Умные каникулы» в ИЦАЭ\nС 31 октября по 4 ноября в ИЦАЭ Минска стартует проект «Умные каникулы». \nДля посетителей сотрудники центра подготовили развлекательно-познавательную программу\, включающую фирменные «атомные» игры — «Хронограф» и «Чепухатом»\, а также интеллектуальную викторину «Атомный спринт» и интерактивный чемодан «Детектор знаний». Все желающие смогут совершить виртуальную экскурсию по атомной станции с использованием VR и AR. \nТакже в игротеке центра ребята смогут расшифровать «Атомные ребусы» и посоревноваться в умении разгадывать головоломки.\n«Умные каникулы» в информационном центре по атомной энергии помогут вам с пользой провести время\, узнать много нового и интересного\, а также зарядиться хорошим настроением и яркими впечатлениями. \nПриглашаем всех желающих принять активное участие!
URL:https://ndtp.by/event/31102022/
ATTACH;FMTTYPE=image/png:https://ndtp.by/wp-content/uploads/2021/05/Group-29.png
END:VEVENT
BEGIN:VEVENT
DTSTART;VALUE=DATE:20221102
DTEND;VALUE=DATE:20221126
DTSTAMP:20260425T062451
CREATED:20221024T062925Z
LAST-MODIFIED:20230427T084526Z
UID:7193-1667347200-1669420799@ndtp.by
SUMMARY:Ноябрьская образовательная смена
DESCRIPTION:Ноябрьская образовательная смена\n Положение об образовательной смене \nСписочный состав участников\, допущенных ко второму этапу отбора учащихся для обучения в Национальном детском технопарке с 02.11.2022г. по 25.11.2022г. \nМеста проведения \n Списочный состав групп учащихся\, зачисленных в УО Национальный детский технопарк для обучения с 02.11.2022г. по 25.11.2022г.
URL:https://ndtp.by/event/nov2022/
ATTACH;FMTTYPE=image/png:https://ndtp.by/wp-content/uploads/2021/05/Group-29.png
END:VEVENT
BEGIN:VEVENT
DTSTART;VALUE=DATE:20221107
DTEND;VALUE=DATE:20221108
DTSTAMP:20260425T062451
CREATED:20221031T120753Z
LAST-MODIFIED:20230427T084521Z
UID:7298-1667779200-1667865599@ndtp.by
SUMMARY:Киноклуб «Наше кино»
DESCRIPTION:Киноклуб «Наше кино»\n7 ноября 2022 года состоится очередное заседание киноклуба «Наше кино» с показом фильма «Зимородок» и встречей с режиссёром\nкинокартины\, заслуженным деятелем искусств БССР Вячеславом Никифоровым. Проект организован УО «Национальный детский технопарк» совместно с РУП «Национальная киностудия «Беларусьфильм» и пройдёт в рамках мероприятий гражданско-патриотической направленности в Год исторической памяти. \nФильм снят по одноименной повести Юрия Яковлева. \nУзнав от бывшего военного летчика Седого о подвиге партизана-разведчика\, известного под именем Зимородок\, школьники идут по местам военных подвигов земляка и даже не подозревают\, что поисковая работа ребят ведет их к любимому учителю… \nУчастники киноклуба «Наше кино»: учащиеся и педагогические работники Национального детского технопарка\, приглашённые гости. \nКоординатор: Белов Андрей Александрович\, заведующий отделом организационно-массовой работы НДТП\, 8017 3906049 \nНачало мероприятия: 7 ноября 2022 года в 15.00 по адресу: г. Минск\, проезд Университетский\,7.
URL:https://ndtp.by/event/07112022/
ATTACH;FMTTYPE=image/png:https://ndtp.by/wp-content/uploads/2021/05/Group-29.png
END:VEVENT
BEGIN:VEVENT
DTSTART;VALUE=DATE:20221110
DTEND;VALUE=DATE:20221111
DTSTAMP:20260425T062451
CREATED:20221108T135551Z
LAST-MODIFIED:20230427T084516Z
UID:7377-1668038400-1668124799@ndtp.by
SUMMARY:«Подвиг юных разведчиков»
DESCRIPTION:«Подвиг юных разведчиков»\n10 ноября состоится мероприятие в рамках проектов «Открытый лекторий» и «Минувших лет живая память». \nМероприятие пройдёт в формате беседы приглашенного гостя с джуниорами ноябрьской образовательной смены. \nБеседа носит название «Подвиг юных разведчиков». \nСпикером станет Екатерина Жук — методист из организационно-массового отдела Национального детского технопарка. \nЕкатерина расскажет джуниорам о юных героях\, партизанах\, которые сражались с врагом в немецком тылу на оккупированной территории Беларуси в годы Великой Отечественной войны. \nРебят ждут интересные истории о совсем молодых Героях Советского союза: Марате Казее и его сестре\, Елене Колесовой\, Всеволоде и Тамаре Галабурде\, а также других юных партизанах-разведчиках.
URL:https://ndtp.by/event/10112022/
ATTACH;FMTTYPE=image/png:https://ndtp.by/wp-content/uploads/2021/05/Group-29.png
END:VEVENT
BEGIN:VEVENT
DTSTART;VALUE=DATE:20221121
DTEND;VALUE=DATE:20221126
DTSTAMP:20260425T062451
CREATED:20220822T094303Z
LAST-MODIFIED:20221121T062035Z
UID:5898-1668988800-1669420799@ndtp.by
SUMMARY:Республиканская неделя технического творчества «Юность. Интеллект. Будущее»
DESCRIPTION:Республиканская неделя технического творчества «Юность. Интеллект. Будущее»\nС 21 по 25 ноября 2022 года Национальный детский технопарк организовывает республиканскую неделю технического творчества «Юность. Интеллект. Будущее». \nВ рамках республиканской недели пройдет цикл мероприятий\, целями которого являются развитие технического творчества детей и молодежи в Республике Беларусь и привлечение ребят к занятиям техническим творчеством\, изобретательской и рационализаторской деятельностью. Также Национальный детский технопарк играет важную роль в содействии интеграции образования\, науки и производства и приумножении потенциала Беларуси. \nУчастников республиканской недели ждут следующие мероприятия: \n\nРеспубликанский онлайн-конкурс компьютерных разработок патриотической направленности «ПАТРИОТ.by»;\nоткрытый лекторий «Компьютерное моделирование потенциальных лекарств»;\nтематическая экскурсия «Техника времён Великой Отечественной войны»;\nтематическая экскурсия «Технологическое моделирование»;\nмастер-класс «Проектирование электрических схем и проведение экспериментов с помощью платформы “Arduino”»;\nмастер-класс «Применение 3д моделирования в быту».\n\nУчастие в республиканской неделе могут принимать учащиеся учреждений общего среднего образования\, учреждений дополнительного образования детей и молодежи\, одновременно являющиеся учащимися учреждений общего среднего образования\, а также учащиеся образовательных смен Национального детского технопарка. \nПо итогам участия ученики награждаются соответствующими дипломами Министерства образования Республики Беларусь. \n Программа
URL:https://ndtp.by/event/14102022/
ATTACH;FMTTYPE=image/png:https://ndtp.by/wp-content/uploads/2021/05/Group-29.png
END:VEVENT
BEGIN:VEVENT
DTSTART;VALUE=DATE:20221121
DTEND;VALUE=DATE:20221123
DTSTAMP:20260425T062451
CREATED:20221118T125714Z
LAST-MODIFIED:20230427T084510Z
UID:7456-1668988800-1669161599@ndtp.by
SUMMARY:«Открытый лекторий»
DESCRIPTION:«Открытый лекторий»\n\n\n\n\n21 и 22 ноября в Национальном детском технопарке состоятся две встречи в рамках проекта «Открытый лекторий».\n\n21 ноября приглашенным спикером станет Ольга Владимировна Бойправ. Ольга Владимировна — доцент кафедры защиты информации в Белорусском государственном университете информатики и радиоэлектроники\, кандидат технических наук.\n\nОна расскажет джуниорам о путях обеспечения информационной безопасности и целях ее защиты.\n\n22 ноября с лекцией выступит Карпенко Анна Дмитриевна — научный сотрудник Объединенного института проблем информатики НАН Беларуси.\n\nАнна Дмитриевна\, в свою очередь\, поднимет с ребятами тему компьютерного моделирования потенциальных лекарств.
URL:https://ndtp.by/event/21112022/
ATTACH;FMTTYPE=image/png:https://ndtp.by/wp-content/uploads/2021/05/Group-29.png
END:VEVENT
BEGIN:VEVENT
DTSTART;VALUE=DATE:20221130
DTEND;VALUE=DATE:20221201
DTSTAMP:20260425T062451
CREATED:20221128T093125Z
LAST-MODIFIED:20221128T104825Z
UID:7569-1669766400-1669852799@ndtp.by
SUMMARY:Республиканский онлайн-семинар
DESCRIPTION:Республиканский онлайн-семинар «Обновленные подходы к реализации\nобразовательной программы дополнительного образования одаренных детей и молодежи»\n30 ноября 2022 года в учреждении образования «Национальный детский технопарк» состоится республиканский семинар «Обновленные подходы к реализации образовательной программы дополнительного образования одаренных детей и молодежи». \nУчастники семинара: педагогические работники учреждений образования республики\, участвующие в реализации образовательной программы дополнительного образования одаренных детей и молодежи\, специалисты структурных подразделений областных (Минского городского) исполнительных комитетов\, осуществляющие государственно-властные полномочия в сфере образования. \nСеминар состоится в онлайн-формате на платформе peregovorka.by. \nНачало семинара в 11.00. \nПо техническим вопросам подключения обращаться по телефону: \n8 (017) 253 66 88. \nПредварительное тестирование связи для участия в режиме видеоподключения состоится 29 ноября 2022 г. с 10.00 до 11.00. \n  Программа семинара
URL:https://ndtp.by/event/30112022/
ATTACH;FMTTYPE=image/png:https://ndtp.by/wp-content/uploads/2021/05/Group-29.png
END:VEVENT
END:VCALENDAR