BEGIN:VCALENDAR
VERSION:2.0
PRODID:-//Национальный детский технопарк - ECPv5.9.2//NONSGML v1.0//EN
CALSCALE:GREGORIAN
METHOD:PUBLISH
X-WR-CALNAME:Национальный детский технопарк
X-ORIGINAL-URL:https://ndtp.by
X-WR-CALDESC:События для Национальный детский технопарк
BEGIN:VTIMEZONE
TZID:Europe/Moscow
BEGIN:STANDARD
TZOFFSETFROM:+0300
TZOFFSETTO:+0300
TZNAME:MSK
DTSTART:20220101T000000
END:STANDARD
END:VTIMEZONE
BEGIN:VEVENT
DTSTART;VALUE=DATE:20220427
DTEND;VALUE=DATE:20220428
DTSTAMP:20260423T094836
CREATED:20220405T071927Z
LAST-MODIFIED:20220415T115044Z
UID:5092-1651017600-1651103999@ndtp.by
SUMMARY:Открытый лекторий «Молодёжь в науке»
DESCRIPTION:Открытый лекторий «Молодёжь в науке» \n27 апреля в 18:00 для джуниоров апрельской образовательной смены пройдёт мотивационная встреча с председателем Совета молодых ученых при Министерстве образования РБ Ермаковым Алексеем Игоревичем \nМероприятие пройдёт в Технохостеле по адресу:\nпр. Независимости\, 67
URL:https://ndtp.by/event/%d0%be%d1%82%d0%ba%d1%80%d1%8b%d1%82%d1%8b%d0%b9-%d0%bb%d0%b5%d0%ba%d1%82%d0%be%d1%80%d0%b8%d0%b9-%d0%b1%d0%b5%d0%bb%d0%b0%d1%80%d1%83%d1%81%d1%8c-%d0%ba%d0%be%d1%81%d0%bc%d0%b8%d1%87%d0%b5/
ATTACH;FMTTYPE=image/png:https://ndtp.by/wp-content/uploads/2021/05/Group-29.png
END:VEVENT
BEGIN:VEVENT
DTSTART;VALUE=DATE:20220417
DTEND;VALUE=DATE:20220418
DTSTAMP:20260423T094836
CREATED:20220418T072334Z
LAST-MODIFIED:20230427T084559Z
UID:5191-1650153600-1650239999@ndtp.by
SUMMARY:Лекция-экскурсия «Трагедия Хатыни»
DESCRIPTION:В рамках проекта «Минувших лет живая память» 17 апреля 2022 года пройдет лекция-экскурсия «Трагедия Хатыни» в Государственном учреждении «Государственный мемориальный комплекс Хатынь». \nВ годы Великой Отечественной войны на оккупированной территории немецко-фашистские захватчики\, осуществляя так называемый «новый порядок»\, массово уничтожали местное население\, не жалея стариков\, женщин\, детей. Самой жуткой карательной мерой стала политика заложничества и коллективной ответственности\, когда за уничтоженных захватчиков расстреливали ни в чем не повинных мирных жителей. \nТакая страшная участь постигла 22 марта 1943 года и жителей Хатыни. Эта небольшая белорусская деревня стала символом боли и скорби нашего многострадального народа в суровые годы Великой Отечественной Войны. \nНачало мероприятия: 17 апреля в 11:30.
URL:https://ndtp.by/event/%d0%bb%d0%b5%d0%ba%d1%86%d0%b8%d1%8f-%d1%8d%d0%ba%d1%81%d0%ba%d1%83%d1%80%d1%81%d0%b8%d1%8f-%d1%82%d1%80%d0%b0%d0%b3%d0%b5%d0%b4%d0%b8%d1%8f-%d1%85%d0%b0%d1%82%d1%8b%d0%bd%d0%b8/
ATTACH;FMTTYPE=image/png:https://ndtp.by/wp-content/uploads/2021/05/Group-29.png
END:VEVENT
BEGIN:VEVENT
DTSTART;VALUE=DATE:20220413
DTEND;VALUE=DATE:20220414
DTSTAMP:20260423T094836
CREATED:20220415T084154Z
LAST-MODIFIED:20230427T084604Z
UID:5169-1649808000-1649894399@ndtp.by
SUMMARY:Открытый лекторий  «Беларусь космическая»
DESCRIPTION:13 апреля 2022 года в Национальном детском технопарке в рамках проекта «Открытый лекторий»\, состоится встреча с начальником центра эксплуатации Белорусской космической системы дистанционного зондирования Земли (БКСДЗ) УП «Геоинформационные системы» НАН Республики Беларусь Сивухой Василием Васильевичем.\n\nТема встречи — «Беларусь космическая». Речь пойдёт об эксплуатации БКСДЗ\, проведении научных исследований в области дистанционного зондирования Земли\, информационных и телекоммуникационных технологиях\, проектировании и новых разработках белорусских учёных в области космонавтики. \nМесто проведения: Технохостел (пр. Независимости\, 67) \nВремя: 17:45.
URL:https://ndtp.by/event/%d0%be%d1%82%d0%ba%d1%80%d1%8b%d1%82%d1%8b%d0%b9-%d0%bb%d0%b5%d0%ba%d1%82%d0%be%d1%80%d0%b8%d0%b9-%d0%b1%d0%b5%d0%bb%d0%b0%d1%80%d1%83%d1%81%d1%8c-%d0%ba%d0%be%d1%81%d0%bc%d0%b8%d1%87%d0%b5-2/
ATTACH;FMTTYPE=image/png:https://ndtp.by/wp-content/uploads/2021/05/Group-29.png
END:VEVENT
BEGIN:VEVENT
DTSTART;VALUE=DATE:20220411
DTEND;VALUE=DATE:20220412
DTSTAMP:20260423T094836
CREATED:20220412T071253Z
LAST-MODIFIED:20230427T084618Z
UID:5124-1649635200-1649721599@ndtp.by
SUMMARY:Ток-шоу «Научный холодильник: банан»
DESCRIPTION:11 апреля сотрудники Информационного центра по атомной энергии Минска проведут научно-популярное ток-шоу «Научный холодильник: банан». \nБанан — это фрукт или ягода? Действительно ли бананы обладают свойствами антидепрессантов? Почему бананы любят есть спортсмены? Узнать об этом\, а также о том\, правда ли\, что бананы от природы радиоактивны\, чем отличаются разные сорта и есть ли польза в недозрелых бананах можно\, посетив мероприятие\, которое пройдёт в библиотеке «БНТУ». \nВалерий Попов\, кандидат педагогических наук\, доцент\, профессор кафедры водных видов спорта Белорусского государственного университета физической культуры\, расскажет\, какие полезные свойства есть у бананов и почему их так любят есть спортсмены. \nАрам Аветисов\, кандидат медицинских наук\, доцент\, заведующий кафедрой радиационной медицины и экологии «Белорусского государственного медицинского университета»\, расскажет о том\, какой радиоактивный элемент есть в банане и что значит понятие «банановый эквивалент». \nИван Русских\, заведующий лабораторией Республиканского центра экологии и краеведения\, расскажет\, почему банан — это не что иное\, как трава\, и можно ли вырастить бананы в наших широтах. \nТок-шоу пройдёт по адресу: ул. Я. Коласа\, 16 (библиотека «БНТУ») в 17:00.
URL:https://ndtp.by/event/%d1%82%d0%be%d0%ba-%d1%88%d0%be%d1%83-%d0%bd%d0%b0%d1%83%d1%87%d0%bd%d1%8b%d0%b9-%d1%85%d0%be%d0%bb%d0%be%d0%b4%d0%b8%d0%bb%d1%8c%d0%bd%d0%b8%d0%ba-%d0%b1%d0%b0%d0%bd%d0%b0%d0%bd/
ATTACH;FMTTYPE=image/png:https://ndtp.by/wp-content/uploads/2021/05/Group-29.png
END:VEVENT
BEGIN:VEVENT
DTSTART;VALUE=DATE:20220409
DTEND;VALUE=DATE:20220410
DTSTAMP:20260423T094836
CREATED:20220315T123122Z
LAST-MODIFIED:20230427T084613Z
UID:4887-1649462400-1649548799@ndtp.by
SUMMARY:Интерактивная программа «Технодень»
DESCRIPTION:9 апреля с 15:00 по 18:00 будет проведена интерактивная программа «Технодень»: \n\nМастер-класс «Основы управления беспилотными летательными аппаратами»;\nГрупповая профориентационная консультация «Личная профессиональная траектория»;\nМастер-класс «ЭкоЛогично» в просветительской студии «Экотехнум».
URL:https://ndtp.by/event/%d1%85i%d1%85-%d0%bc%d0%b8%d0%bd%d1%81%d0%ba%d0%b0%d1%8f-%d0%bc%d0%b5%d0%b6%d0%b4%d1%83%d0%bd%d0%b0%d1%80%d0%be%d0%b4%d0%bd%d0%b0%d1%8f-%d0%ba%d0%bd%d0%b8%d0%b6%d0%bd%d0%b0%d1%8f-%d0%b2%d1%8b%d1%81/
ATTACH;FMTTYPE=image/png:https://ndtp.by/wp-content/uploads/2021/05/Group-29.png
END:VEVENT
BEGIN:VEVENT
DTSTART;VALUE=DATE:20220406
DTEND;VALUE=DATE:20220430
DTSTAMP:20260423T094836
CREATED:20220405T071513Z
LAST-MODIFIED:20220405T071513Z
UID:5089-1649203200-1651276799@ndtp.by
SUMMARY:Апрельская образовательная смена
DESCRIPTION:
URL:https://ndtp.by/event/%d0%b0%d0%bf%d1%80%d0%b5%d0%bb%d1%8c%d1%81%d0%ba%d0%b0%d1%8f-%d0%be%d0%b1%d1%80%d0%b0%d0%b7%d0%be%d0%b2%d0%b0%d1%82%d0%b5%d0%bb%d1%8c%d0%bd%d0%b0%d1%8f-%d1%81%d0%bc%d0%b5%d0%bd%d0%b0/
ATTACH;FMTTYPE=image/png:https://ndtp.by/wp-content/uploads/2021/05/Group-29.png
END:VEVENT
BEGIN:VEVENT
DTSTART;VALUE=DATE:20220327
DTEND;VALUE=DATE:20220402
DTSTAMP:20260423T094836
CREATED:20220315T123316Z
LAST-MODIFIED:20220315T123316Z
UID:4890-1648339200-1648857599@ndtp.by
SUMMARY:Весенние каникулы
DESCRIPTION:
URL:https://ndtp.by/event/%d0%b2%d0%b5%d1%81%d0%b5%d0%bd%d0%bd%d0%b8%d0%b5-%d0%ba%d0%b0%d0%bd%d0%b8%d0%ba%d1%83%d0%bb%d1%8b/
ATTACH;FMTTYPE=image/png:https://ndtp.by/wp-content/uploads/2021/05/Group-29.png
END:VEVENT
BEGIN:VEVENT
DTSTART;VALUE=DATE:20220323
DTEND;VALUE=DATE:20220328
DTSTAMP:20260423T094836
CREATED:20220328T080044Z
LAST-MODIFIED:20230427T084624Z
UID:5000-1647993600-1648425599@ndtp.by
SUMMARY:ХIХ Минская международная книжная выставка-ярмарка «Река времени Батьковщины»
DESCRIPTION:XXIХ Минская международная книжная выставка-ярмарка состоится 23 – 27 марта 2022 г. в Административном комплексе по проспекту Победителей\, 14. \nТоржественное открытие выставки-ярмарки – 23 марта 2022 года в 12.00. \nСимволично\, что в Год исторической памяти\, объявленный в 2022 году в Беларуси\, традиционная Минская международная книжная выставка-ярмарка объединит всех\, кто любит книгу\, читает\, пишет\, издает\, на празднике с ключевыми мероприятиями\, посвященными роли книги в изучении\, сохранении и популяризации исторического наследия белорусского народа.\nВ рамках «Образовательного квартала» выставки Национальный детский технопарк представит свою экспозицию\, а также проведет серию образовательных мероприятий для посетителей.
URL:https://ndtp.by/event/%d1%85i%d1%85-%d0%bc%d0%b8%d0%bd%d1%81%d0%ba%d0%b0%d1%8f-%d0%bc%d0%b5%d0%b6%d0%b4%d1%83%d0%bd%d0%b0%d1%80%d0%be%d0%b4%d0%bd%d0%b0%d1%8f-%d0%ba%d0%bd%d0%b8%d0%b6%d0%bd%d0%b0%d1%8f-%d0%b2%d1%8b%d1%81-2/
ATTACH;FMTTYPE=image/png:https://ndtp.by/wp-content/uploads/2021/05/Group-29.png
END:VEVENT
BEGIN:VEVENT
DTSTART;VALUE=DATE:20220309
DTEND;VALUE=DATE:20220402
DTSTAMP:20260423T094836
CREATED:20220315T122711Z
LAST-MODIFIED:20220315T122711Z
UID:4884-1646784000-1648857599@ndtp.by
SUMMARY:Мартовская образовательная смена
DESCRIPTION:
URL:https://ndtp.by/event/%d0%bc%d0%b0%d1%80%d1%82%d0%be%d0%b2%d1%81%d0%ba%d0%b0%d1%8f-%d0%be%d0%b1%d1%80%d0%b0%d0%b7%d0%be%d0%b2%d0%b0%d1%82%d0%b5%d0%bb%d1%8c%d0%bd%d0%b0%d1%8f-%d1%81%d0%bc%d0%b5%d0%bd%d0%b0/
ATTACH;FMTTYPE=image/png:https://ndtp.by/wp-content/uploads/2021/05/Group-29.png
END:VEVENT
BEGIN:VEVENT
DTSTART;VALUE=DATE:20220225
DTEND;VALUE=DATE:20220226
DTSTAMP:20260423T094836
CREATED:20220210T112124Z
LAST-MODIFIED:20220217T135747Z
UID:4783-1645747200-1645833599@ndtp.by
SUMMARY:Киноклуб. Наше кино
DESCRIPTION:25 февраля 2022 года состоится очередное заседание киноклуба «Наше кино» с показом документального фильма «Generation Play» и встречей с авторами фильма. \nФильм о сфере IT. Молодые специалисты на основе технологии виртуальной реальности занимаются разработкой нового продукта\, связанного с медицинской тематикой. Это создание медицинских тренажеров\, способствующих улучшению качества реабилитации пациентов\, страдающих от поражения опорно-двигательного аппарата. В скором времени устройства виртуальной реальности станут так же популярны и функциональны\, как мобильные телефоны. \nГостями и основными спикерами проекта станут соавтор сценария фильма\, ведущий редактор студии документальных фильмов «Летопись» Владимир Мороз и главный герой картины\, разработчик VR-технологий Михаил Юрченко. \nПроект организован Национальным детским технопарком совместно с Национальной киностудией «Беларусьфильм». \nУчастники киноклуба «Наше кино»: Учащиеся и педагогические работники Национального детского технопарка\, работники киностудии «Беларусьфильм»\, приглашённые гости. \nКоординатор: Белов Андрей Александрович\, заведующий отделом организационно-массовой работы НДТП.\n8 (017) 390-60-49 \nНачало мероприятия: 25 февраля 2022 года в 18:30 по адресу:\nг. Минск\, пр. Независимости\, 98\, киностудия «Беларусьфильм».
URL:https://ndtp.by/event/%d0%ba%d0%b8%d0%bd%d0%be%d0%ba%d0%bb%d1%83%d0%b1-%d0%bd%d0%b0%d1%88%d0%b5-%d0%ba%d0%b8%d0%bd%d0%be/
ATTACH;FMTTYPE=image/png:https://ndtp.by/wp-content/uploads/2021/05/Group-29.png
END:VEVENT
BEGIN:VEVENT
DTSTART;VALUE=DATE:20220220
DTEND;VALUE=DATE:20220221
DTSTAMP:20260423T094836
CREATED:20220215T113327Z
LAST-MODIFIED:20220216T083726Z
UID:4811-1645315200-1645401599@ndtp.by
SUMMARY:Лекция-экскурсия «Красная Армия\, рождённая Октябрем»
DESCRIPTION:Лекция-экскурсия «Красная Армия\, рождённая Октябрем» \nСовместный проект «Минувших лет живая память»  организован Национальным детским технопарком с Белорусским государственным музеем истории Великой Отечественной войны. \nВ рамках проекта пройдёт  лекция-экскурсия «Красная армия\, рождённая Октябрём» в Белорусском государственном музее истории Великой Отечественной войны. \nТрадиционное мероприятие организовано для учащихся второй общеобразовательной смены. В этой лекции мы обращаемся к своему славному прошлому\, к истории создания Красной армии и её ратному подвигу. \nУчастники мероприятия: Учащиеся и педагогические работники Национального детского технопарка\, сотрудники Белорусского государственного музея истории Великой Отечественной войны\, представители общественности. \nНачало мероприятия: 20 февраля 2022 года в 11:00
URL:https://ndtp.by/event/%d0%be%d0%bb%d0%b8%d0%bc%d0%bf%d0%b8%d0%b9%d1%81%d0%ba%d0%b8%d0%b9-%d1%83%d1%80%d0%be%d0%ba/
ATTACH;FMTTYPE=image/png:https://ndtp.by/wp-content/uploads/2021/05/Group-29.png
END:VEVENT
BEGIN:VEVENT
DTSTART;VALUE=DATE:20220214
DTEND;VALUE=DATE:20220215
DTSTAMP:20260423T094836
CREATED:20220207T063101Z
LAST-MODIFIED:20230427T084634Z
UID:4710-1644796800-1644883199@ndtp.by
SUMMARY:Открытый лекторий
DESCRIPTION:
URL:https://ndtp.by/event/%d0%be%d1%82%d0%ba%d1%80%d1%8b%d1%82%d1%8b%d0%b9-%d0%bb%d0%b5%d0%ba%d1%82%d0%be%d1%80%d0%b8%d0%b9-3/
ATTACH;FMTTYPE=image/png:https://ndtp.by/wp-content/uploads/2021/05/Group-29.png
END:VEVENT
BEGIN:VEVENT
DTSTART;VALUE=DATE:20220208
DTEND;VALUE=DATE:20220210
DTSTAMP:20260423T094836
CREATED:20220131T143717Z
LAST-MODIFIED:20230427T084716Z
UID:4679-1644278400-1644451199@ndtp.by
SUMMARY:Республиканский семинар
DESCRIPTION:Республиканский семинар педагогов дополнительного образования спортивно-технического профиля по теме «Организация и проведение соревнований по техническим видам спорта» (авиамодельный спорт\, ракетомодельный спорт\, автомодельный спорт\, трассовый моделизм\, судомодельный спорт\, картинг\, мотоциклетный спорт)\nПРОГРАММА \nпроведения республиканского семинара педагогов дополнительного образования спортивно-технического профиля \nТема: «Организация и проведение соревнований по техническим видам спорта» (авиамодельный спорт\, ракетомодельный спорт\, автомодельный спорт\, трассовый моделизм\, судомодельный спорт\, картинг\, мотоциклетный спорт) \nДата проведения: 08-09 февраля 2022 г. \nФормат проведения: видеоконференция \nМесто проведения: учреждение образования «Национальный детский технопарк» (г.Минск\, ул.Славинского\, 12). \nЦель семинара: повышение профессиональной компетентности педагогов дополнительного образования\, развитие и популяризация технических видов спорта\, обмен опытом работы по развитию и совершенствованию технического творчества детей и молодежи. \n  \n08 февраля 2022 г. (вторник) \n  \n09.00-09.20 – Открытие семинара \nЦели и задачи\, стоящие перед педагогами дополнительного образования спортивно-технического профиля в текущем учебном году. \nСереда А.Г.\, заместитель директора по учебно-методической работе учреждения образования «Национальный детский технопарк» \n  \n09.20-09.40 – Подведение итогов XIX республиканской спартакиады учащихся по техническим видам спорта «ТехноСпорт». \nАнисеня А.В.\, заместитель заведующего отделом реализации образовательной программы дополнительного образования детей и молодежи технического и спортивно-технического профиля учреждения образования «Национальный детский технопарк» \n  \n  \n09.40-11.40 – Работа секции картинга \nПодготовка\, организация и проведение соревнований\, особенности судейства соревнований по картингу. \nРудько Н.В.\, заведующий кабинетом картинга учреждения образования «Национальный детский технопарк» \n  \nСовременные требования\, предъявляемые к микроавтомобилям «карт»\, при проведении соревнований различного уровня \nШурпаков В.А.\, педагог дополнительного образования УО «Гродненский государственный областной Дворец творчества детей и молодежи» \n  \nКлассификация и техническое требование (КиТТ) для кольцевых гонок на асфальтном покрытии по картингу на 2022 год. \nЛапицкий С.С.\, член президиума\, председатель комитета картинга общественного объединения «Белорусская автомобильная федерация».  \n  \nКруглый стол. Обсуждение положения о проведении XX республиканской спартакиады учащихся по техническим видам спорта «ТехноСпорт» (картинг). \nУчастники семинара \n  \n11.40-13.00 – Работа секции автомоделирования \nОбсуждение и утверждение классов моделей по трассовому автомоделированию в рамках проведения XX республиканской спартакиады учащихся по техническим видам спорта «ТехноСпорт». \nСкалабан А.Н.\, педагог дополнительного образования государственного учреждения дополнительного образования «Центр технического творчества детей и молодёжи Солигорского района» \n  \nОбсуждение календарного плана проведения спортивных мероприятий в 2022 году по автомодельному спорту: республиканские и международные соревнования. \nМосин Д.Ю.\, заведующий кабинетом автомоделирования учреждения образования «Национальный детский технопарк» \n  \nКруглый стол. Обсуждение положения о проведении XX республиканской спартакиады учащихся по техническим видам спорта «ТехноСпорт» (автомодельный спорт\, трассовый моделизм). \nУчастники семинара \n  \n09 февраля 2022 г. (среда) \n  \n09.00 – 10.00 – Работа секции мотоциклетного спорта \nОрганизация и проведение соревнований в рамках XX спартакиады учащихся по техническим видом спорта (мотоциклетный спорт)\, особенности судейства соревнований по мотоциклетному спорту. \nЖуравкин С.А.\, заведующий кабинетом мототехники учреждения образования «Национальный детский технопарк» \n  \nВоенно-патриотическое воспитание учащихся на занятиях объединения по интересам «Юный мотоциклист» \nПротасеня В.А.\, педагог дополнительного образования государственного учреждения образования «Слуцкий центр технического и прикладного творчества учащийся молодежи»  \n  \nСвязь трудового обучения и дополнительного образования по допрофессиональной подготовке учащихся \nГлушак Б.В. педагог дополнительного образования государственного учреждения образования «Многопрофильный центр «Ветразь» г. Белыничи» \n  \nПрисвоение спортивных разрядов участникам соревнований по мотоциклетному спорту в учреждениях дополнительного образования \nКоваленок М.И.\, заведующий кабинетом отдела технического творчества и спорта учреждения образования «Минский государственный дворец детей и молодежи» \n  \nРазвитие в Республике Беларусь любительского вида мотоспорта «Трековые гонки на мотоциклах» (дерттрек) \nКанин П.Ю. Председатель общественного объединения «Гомельский мотоклуб «Ночные волки» \n  \nКруглый стол. Обсуждение положения о проведении XX республиканской спартакиады учащихся по техническим видам спорта «ТехноСпорт» (мотоциклетный спорт). \nУчастники семинара \n  \n10.00 – 11.00 – Работа секции судомодельного спорта \nПроект положения спартакиады учащихся по техническим видом спорта «ТехноСпорт-2022» по судомодельному спорту. \nМихалкович И.И.\, заведующий кабинетом судомоделирования учреждения образования «Национальный детский технопарк» \n  \nОнлайн конкурсы\, как новое направление в моделизме. \nХрещик Н.Н.\, педагог дополнительного образования учреждения дополнительного образования «Молодечненский центр творчества детей и молодежи «Маладик»     \n  \nКруглый стол. Обсуждение положения о проведении XX республиканской спартакиады учащихся по техническим видам спорта «ТехноСпорт» (судомодельный спорт). \nУчастники семинара \n  \n11.00 – 13.00 – Работа секции авиа- и ракетомодельного спорта \nОбсуждение положения соревнований по авиамодельному спорту XX республиканской спартакиады «Техноспорт» в 2022 году: выбор сроков и места проведения\, уточнение технических требованиям к моделям. \nЯковлев Д.С.\, заведующий кабинетом «Технологии БПЛА и авиамоделирования» учреждения образования «Национальный детский технопарк» \n  \nОбсуждение положения соревнований по ракетомодельному спорту XX республиканской спартакиады «Техноспорт» в 2022 году: выбор сроков и места проведения\, уточнение технических требованиям к моделям. \nЛипай А.Н.\, заведующий отделом спортивно-технического моделирования государственного учреждения образования «Гродненский областной центр технического творчества» \n  \nКруглый стол. Обсуждение положения о проведении XX республиканской спартакиады учащихся по техническим видам спорта «ТехноСпорт» (ракето- и авиамодельный спорт). \nУчастники семинара \n  \n* В программе возможны изменения
URL:https://ndtp.by/event/%d1%80%d0%b5%d1%81%d0%bf%d1%83%d0%b1%d0%bb%d0%b8%d0%ba%d0%b0%d0%bd%d1%81%d0%ba%d0%b8%d0%b9-%d1%81%d0%b5%d0%bc%d0%b8%d0%bd%d0%b0%d1%80/
ATTACH;FMTTYPE=image/png:https://ndtp.by/wp-content/uploads/2021/05/Group-29.png
END:VEVENT
BEGIN:VEVENT
DTSTART;VALUE=DATE:20220207
DTEND;VALUE=DATE:20220303
DTSTAMP:20260423T094836
CREATED:20220207T064430Z
LAST-MODIFIED:20220207T093640Z
UID:4713-1644192000-1646265599@ndtp.by
SUMMARY:Февральская образовательная смена
DESCRIPTION:
URL:https://ndtp.by/event/%d1%84%d0%b5%d0%b2%d1%80%d0%b0%d0%bb%d1%8c%d1%81%d0%ba%d0%b0%d1%8f-%d0%be%d0%b1%d1%80%d0%b0%d0%b7%d0%be%d0%b2%d0%b0%d1%82%d0%b5%d0%bb%d1%8c%d0%bd%d0%b0%d1%8f-%d1%81%d0%bc%d0%b5%d0%bd%d0%b0/
ATTACH;FMTTYPE=image/png:https://ndtp.by/wp-content/uploads/2021/05/Group-29.png
END:VEVENT
BEGIN:VEVENT
DTSTART;VALUE=DATE:20220201
DTEND;VALUE=DATE:20220202
DTSTAMP:20260423T094836
CREATED:20220131T142551Z
LAST-MODIFIED:20230427T084643Z
UID:4678-1643673600-1643759999@ndtp.by
SUMMARY:Фестиваль исследовательских проектов «JUNIORFEST»
DESCRIPTION:
URL:https://ndtp.by/event/%d1%84%d0%b5%d1%81%d1%82%d0%b8%d0%b2%d0%b0%d0%bb%d1%8c-%d0%b8%d1%81%d1%81%d0%bb%d0%b5%d0%b4%d0%be%d0%b2%d0%b0%d1%82%d0%b5%d0%bb%d1%8c%d1%81%d0%ba%d0%b8%d1%85-%d0%bf%d1%80%d0%be%d0%b5%d0%ba%d1%82-2/
ATTACH;FMTTYPE=image/png:https://ndtp.by/wp-content/uploads/2021/05/Group-29.png
END:VEVENT
BEGIN:VEVENT
DTSTART;VALUE=DATE:20220201
DTEND;VALUE=DATE:20220202
DTSTAMP:20260423T094836
CREATED:20220124T070508Z
LAST-MODIFIED:20220124T133954Z
UID:4623-1643673600-1643759999@ndtp.by
SUMMARY:Фестиваль исследовательских проектов «JUNIORFEST»
DESCRIPTION:
URL:https://ndtp.by/event/%d1%84%d0%b5%d1%81%d1%82%d0%b8%d0%b2%d0%b0%d0%bb%d1%8c-%d0%b8%d1%81%d1%81%d0%bb%d0%b5%d0%b4%d0%be%d0%b2%d0%b0%d1%82%d0%b5%d0%bb%d1%8c%d1%81%d0%ba%d0%b8%d1%85-%d0%bf%d1%80%d0%be%d0%b5%d0%ba%d1%82%d0%be/
ATTACH;FMTTYPE=image/png:https://ndtp.by/wp-content/uploads/2021/05/Group-29.png
END:VEVENT
END:VCALENDAR