BEGIN:VCALENDAR
VERSION:2.0
PRODID:-//Национальный детский технопарк - ECPv5.9.2//NONSGML v1.0//EN
CALSCALE:GREGORIAN
METHOD:PUBLISH
X-WR-CALNAME:Национальный детский технопарк
X-ORIGINAL-URL:https://ndtp.by
X-WR-CALDESC:События для Национальный детский технопарк
BEGIN:VTIMEZONE
TZID:Europe/Moscow
BEGIN:STANDARD
TZOFFSETFROM:+0300
TZOFFSETTO:+0300
TZNAME:MSK
DTSTART:20250101T000000
END:STANDARD
END:VTIMEZONE
BEGIN:VEVENT
DTSTART;VALUE=DATE:20250206
DTEND;VALUE=DATE:20250302
DTSTAMP:20260423T071914
CREATED:20250131T075305Z
LAST-MODIFIED:20250203T125453Z
UID:17473-1738800000-1740873599@ndtp.by
SUMMARY:Февральская образовательная смена
DESCRIPTION:Февральская образовательная смена\n Положение об образовательной смене \nСписочный состав участников\, допущенных ко второму этапу отбора учащихся для обучения в Национальном детском технопарке с 06.02.2025г. по 01.03.2025г. \nМеста проведения \nСписочный состав групп учащихся\, зачисленных в УО Национальный детский технопарк для обучения с 06.02.2025г. по 01.03.2025г.
URL:https://ndtp.by/event/febr-2025/
ATTACH;FMTTYPE=image/png:https://ndtp.by/wp-content/uploads/2021/05/Group-29.png
END:VEVENT
BEGIN:VEVENT
DTSTART;VALUE=DATE:20250228
DTEND;VALUE=DATE:20250302
DTSTAMP:20260423T071914
CREATED:20250220T141619Z
LAST-MODIFIED:20250220T141943Z
UID:17785-1740700800-1740873599@ndtp.by
SUMMARY:Республиканский конкурс работ исследовательского характера
DESCRIPTION:Республиканский конкурс работ исследовательского характера учащихся по учебным предметам «Астрономия»\, «Биология»\, «Информатика»\, «Физика»\, «Химия»\nВ Республике Беларусь конкурсы работ исследовательского характера проводятся вот уже почти 30 лет. \nПервый республиканский конкурс учащихся был проведен в 1996 г. на базе Политехнической гимназии № 6 г. Минска. \nВ нынешнем году Республиканский конкурс работ исследовательского характера учащихся по учебным предметам «Астрономия»\, «Биология»\, «Информатика»\, «Физика»\, «Химия» пройдет с 28 февраля по 1 марта 2025 года в Национальном детском технопарке. \nЦелью конкурса является развитие интеллектуальных способностей учащихся\, расширение круга их образовательных интересов\, повышение качества образовательного процесса. \nКонкурс – интеллектуальное состязание учащихся\, получающих общее среднее образование\, по представлению и защите в публичной дискуссии работ исследовательского характера по учебным предметам «Астрономия»\, «Биология»\, «Информатика»\, «Математика»\, «Физика»\, «Химия». \nВо время проведения конкурса организуется работа следующих секций: «Астрономия»\, «Биология»\, «Информатика»\, «Информатика. Робототехника»\, «Математика»\, «Физика»\, «Химия». \n Программа
URL:https://ndtp.by/event/2802025/
ATTACH;FMTTYPE=image/png:https://ndtp.by/wp-content/uploads/2021/05/Group-29.png
END:VEVENT
BEGIN:VEVENT
DTSTART;VALUE=DATE:20250306
DTEND;VALUE=DATE:20250330
DTSTAMP:20260423T071914
CREATED:20250303T133640Z
LAST-MODIFIED:20250303T133640Z
UID:17919-1741219200-1743292799@ndtp.by
SUMMARY:Мартовская образовательная смена
DESCRIPTION:Мартовская образовательная смена\n Положение об образовательной смене \nСписочный состав участников\, допущенных ко второму этапу отбора учащихся для обучения в Национальном детском технопарке с 06.03.2025г. по 29.03.2025г. \nМеста проведения \nСписочный состав групп учащихся\, зачисленных в УО Национальный детский технопарк для обучения с 06.03.2025г. по 29.03.2025г.
URL:https://ndtp.by/event/03-2025/
ATTACH;FMTTYPE=image/png:https://ndtp.by/wp-content/uploads/2021/05/Group-29.png
END:VEVENT
BEGIN:VEVENT
DTSTART;VALUE=DATE:20250319
DTEND;VALUE=DATE:20250322
DTSTAMP:20260423T071914
CREATED:20250116T060626Z
LAST-MODIFIED:20250116T114303Z
UID:17166-1742342400-1742601599@ndtp.by
SUMMARY:Конкурс технического творчества учащейся молодежи «Инженеры будущего»
DESCRIPTION:Конкурс технического творчества учащейся молодежи «Инженеры будущего»\n19 – 21 марта 2025 года состоится заключительный этап Республиканского конкурса технического творчества учащейся молодежи «Инженеры будущего». \nКонкурс состоится в учреждении образования «Национальный детский технопарк». \nВ течение трех дней победители областных\, Минского городского этапов будут соревноваться в 10 номинациях: \n\nБеспилотные летательные аппараты;\nЭлектроника и связь;\nАрхитектура и дизайн;\nПрототипирование;\nИнженерный дизайн CAD;\nДополненная и виртуальная реальность;\nВеб-технологии;\nГрафический дизайн;\nИнженерная экология;\nСетевое проектирование и системная инженерия.\n\nПобедители конкурса станут обладателями дипломов Министерства образования Республики Беларусь I\, II\, III степени. \nПодробная информация о Конкурсе размещена в разделе «Международные и республиканские мероприятия» \nКонтактный телефон ответственного лица: \nСолодовникова-Урбанович Анастасия Сергеевна: (017) 232 20 39\, \ne-mail: orgmas@ndtp.by
URL:https://ndtp.by/event/19032025/
ATTACH;FMTTYPE=image/png:https://ndtp.by/wp-content/uploads/2021/05/Group-29.png
END:VEVENT
BEGIN:VEVENT
DTSTART;VALUE=DATE:20250323
DTEND;VALUE=DATE:20250331
DTSTAMP:20260423T071914
CREATED:20250314T083636Z
LAST-MODIFIED:20250317T064434Z
UID:18071-1742688000-1743379199@ndtp.by
SUMMARY:Весенние Техноканикулы
DESCRIPTION:Весенние Техноканикулы\nВесенние Техноканикулы пройдут в Национальном детском технопарке с 23 по 30 марта 2025 года. \nТехноканикулы  —  это отличная возможность  погрузиться в мир науки и техники\, провести время с пользой\, научиться чему-то новому и найти друзей по интересам. \nПодробнее о программе можно узнать по ссылке.
URL:https://ndtp.by/event/23032025/
ATTACH;FMTTYPE=image/png:https://ndtp.by/wp-content/uploads/2021/05/Group-29.png
END:VEVENT
END:VCALENDAR