BEGIN:VCALENDAR
VERSION:2.0
PRODID:-//Национальный детский технопарк - ECPv5.9.2//NONSGML v1.0//EN
CALSCALE:GREGORIAN
METHOD:PUBLISH
X-WR-CALNAME:Национальный детский технопарк
X-ORIGINAL-URL:https://ndtp.by
X-WR-CALDESC:События для Национальный детский технопарк
BEGIN:VTIMEZONE
TZID:Europe/Moscow
BEGIN:STANDARD
TZOFFSETFROM:+0300
TZOFFSETTO:+0300
TZNAME:MSK
DTSTART:20240101T000000
END:STANDARD
END:VTIMEZONE
BEGIN:VEVENT
DTSTART;VALUE=DATE:20240103
DTEND;VALUE=DATE:20240106
DTSTAMP:20260424T050522
CREATED:20231222T104311Z
LAST-MODIFIED:20231222T115517Z
UID:12729-1704240000-1704499199@ndtp.by
SUMMARY:Акция «Наши дети»
DESCRIPTION:Акция «Наши дети»\nНациональный детский технопарк — соорганизатор республиканской благотворительной акции «Наши дети». Она пройдёт во Дворце Независимости с 3 по 5 января. \nГостей праздника будут ждать мастер-классы и аттракционы\, а главным событием станет новогоднее представление с участием заслуженных деятелей культуры Республики Беларусь. После чего каждый ребёнок получит подарок от Главы государства. \nУчастниками станут дети-сироты и дети\, оставшиеся без попечения родителей\, дети-инвалиды\, дети из многодетных и малообеспеченных семей\, семей беженцев и другие.
URL:https://ndtp.by/event/03012024/
ATTACH;FMTTYPE=image/png:https://ndtp.by/wp-content/uploads/2021/05/Group-29.png
END:VEVENT
BEGIN:VEVENT
DTSTART;VALUE=DATE:20240108
DTEND;VALUE=DATE:20240201
DTSTAMP:20260424T050522
CREATED:20231222T090348Z
LAST-MODIFIED:20231222T090548Z
UID:12726-1704672000-1706745599@ndtp.by
SUMMARY:Январская образовательная смена
DESCRIPTION:Январская образовательная смена\n Положение об образовательной смене \nСписочный состав участников\, допущенных ко второму этапу отбора учащихся для обучения в Национальном детском технопарке с 08.01.2024г. по 31.01.2024г. \nМеста проведения \n Списочный состав групп учащихся\, зачисленных в УО Национальный детский технопарк для обучения с 08.01.2024г. по 31.01.2024г.
URL:https://ndtp.by/event/jun2024/
ATTACH;FMTTYPE=image/png:https://ndtp.by/wp-content/uploads/2021/05/Group-29.png
END:VEVENT
BEGIN:VEVENT
DTSTART;VALUE=DATE:20240112
DTEND;VALUE=DATE:20240113
DTSTAMP:20260424T050522
CREATED:20240108T130239Z
LAST-MODIFIED:20240108T130239Z
UID:12814-1705017600-1705103999@ndtp.by
SUMMARY:Единый урок\, посвященный 80-летию трагедии в д. Ола́
DESCRIPTION:Единый урок\, посвященный 80-летию трагедии в д. Ола́\nС целью углубления знаний учащихся об историческом прошлом белорусского народа\, формирования представлений о геноциде белорусского народа в годы Великой Отечественной войны во всех учреждениях общего среднего образования 12 января будет проведен единый урок\, посвященный 80-летию трагедии в д. Ола́\, «Ола́ – сестра Хатыни». \nЕдиный урок пройдёт в средней школе №225\, где занятия будут проходить у джуниоров январской образовательной смены.
URL:https://ndtp.by/event/12012024/
ATTACH;FMTTYPE=image/png:https://ndtp.by/wp-content/uploads/2021/05/Group-29.png
END:VEVENT
END:VCALENDAR