BEGIN:VCALENDAR
VERSION:2.0
PRODID:-//Национальный детский технопарк - ECPv5.9.2//NONSGML v1.0//EN
CALSCALE:GREGORIAN
METHOD:PUBLISH
X-WR-CALNAME:Национальный детский технопарк
X-ORIGINAL-URL:https://ndtp.by
X-WR-CALDESC:События для Национальный детский технопарк
BEGIN:VTIMEZONE
TZID:Europe/Moscow
BEGIN:STANDARD
TZOFFSETFROM:+0300
TZOFFSETTO:+0300
TZNAME:MSK
DTSTART:20230101T000000
END:STANDARD
END:VTIMEZONE
BEGIN:VEVENT
DTSTART;VALUE=DATE:20231127
DTEND;VALUE=DATE:20231221
DTSTAMP:20260424T062944
CREATED:20231122T110937Z
LAST-MODIFIED:20231124T084015Z
UID:12173-1701043200-1703116799@ndtp.by
SUMMARY:Декабрьская образовательная смена
DESCRIPTION:Декабрьская образовательная смена\n Положение об образовательной смене \nСписочный состав участников\, допущенных ко второму этапу отбора учащихся для обучения в Национальном детском технопарке с 27.11.2023г. по 20.12.2023г. \nМеста проведения \n Списочный состав групп учащихся\, зачисленных в УО Национальный детский технопарк для обучения с 27.11.2023г. по 20.12.2023г.
URL:https://ndtp.by/event/dec2023/
ATTACH;FMTTYPE=image/png:https://ndtp.by/wp-content/uploads/2021/05/Group-29.png
END:VEVENT
BEGIN:VEVENT
DTSTART;VALUE=DATE:20231127
DTEND;VALUE=DATE:20231204
DTSTAMP:20260424T062944
CREATED:20231122T111201Z
LAST-MODIFIED:20231127T104756Z
UID:12175-1701043200-1701647999@ndtp.by
SUMMARY:Республиканская неделя технического творчества «Юность. Интеллект. Будущее»
DESCRIPTION:Республиканская неделя технического творчества «Юность. Интеллект. Будущее»\nС 27 ноября по 3 декабря пройдёт Республиканская неделя технического творчества «Юность. Интеллект. Будущее». \nНеделя пройдёт на базе Национального детского технопарка в целях: \n\nпопуляризации и развития технического творчества детей и молодежи в Республике Беларусь;\nпривлечения учащихся к конструкторско-технической и научно-исследовательской\, инновационной деятельности;\nинтеграции образования\, науки и производства;\nгражданско-патриотического воспитания детей и молодёжи;\nразвития и сохранения научного потенциала детей и молодёжи.\n\nВ течение недели участников ждут: \n\nоткрытые лектории со специалистами из таких сфер\, как экономика\, информатика\, педагогика;\nмастер-классы по электронике и компьютерным технологиям;\nкруглые столы и семинары;\nвикторины и соревнования.\n\nТакже в рамках недели пройдёт заключительный этап Республиканского онлайн-конкурса компьютерных разработок патриотической направленности «ПАТРИОТ.by». \nПриглашаем учащихся принять участие в неделе технического творчества и узнать много нового о самых актуальных и востребованных сферах современности!
URL:https://ndtp.by/event/27112023/
ATTACH;FMTTYPE=image/png:https://ndtp.by/wp-content/uploads/2021/05/Group-29.png
END:VEVENT
BEGIN:VEVENT
DTSTART;VALUE=DATE:20231206
DTEND;VALUE=DATE:20231207
DTSTAMP:20260424T062944
CREATED:20231203T143613Z
LAST-MODIFIED:20231222T090627Z
UID:12313-1701820800-1701907199@ndtp.by
SUMMARY:Открытый лекторий
DESCRIPTION:Открытый лекторий\nВ актовом зале Национального детского технопарка пройдёт открытый лекторий «Планеты Солнечной системы». \nПриглашеннный спикер – Александр Альбертович Шимбалев\, преподаватель астрономии в БГПУ им. М. Танка и автор школьных учебников. \nАлександр Альбертович расскажет джуниорам о: \n• строении Солнечной системы;\n• том\, что такое Млечный Путь;\n• том\, как давно сформировалась Солнечная система.
URL:https://ndtp.by/event/06122023/
ATTACH;FMTTYPE=image/png:https://ndtp.by/wp-content/uploads/2021/05/Group-29.png
END:VEVENT
BEGIN:VEVENT
DTSTART;VALUE=DATE:20231208
DTEND;VALUE=DATE:20231209
DTSTAMP:20260424T062944
CREATED:20231204T062823Z
LAST-MODIFIED:20231222T090622Z
UID:12315-1701993600-1702079999@ndtp.by
SUMMARY:Спектакль РТБД «Адамавы жарты». Творческая встреча с актёрами.
DESCRIPTION:Спектакль РТБД «Адамавы жарты».\nТворческая встреча с актёрами.\n8 декабря джуниоры посетят Республиканский театр белорусской драматургии\, чтобы посмотреть спектакль «Адамавы жарты»: \nАўтэнтычны\, легкі спектакль.\nСаўка і Марыся – выдатныя муж і жонка\, шмат у чым нагадваюць біблейскіх Адама і Еву. Яны маладыя\, прыгожыя і вельмі працавітыя. Жывуць у любові і згодзе\, старанна вядуць хатнюю гаспадарку. Але адкуль ні вазьміся да іх заяўляецца Чорт… \nУ спектаклі неверагодна пераплецена рэальнае і фантастычнае\, сапраўднае і карыкатурнае\, сучаснае і старажытнае\, шмат музыкі\, пластыкі і\, вядома\, жартаў. \nПосле просмотра постановки джуниоры встретятся с актерами\, чтобы побеседовать с ними и задать вопросы.
URL:https://ndtp.by/event/08122023/
ATTACH;FMTTYPE=image/png:https://ndtp.by/wp-content/uploads/2021/05/Group-29.png
END:VEVENT
BEGIN:VEVENT
DTSTART;VALUE=DATE:20231212
DTEND;VALUE=DATE:20231213
DTSTAMP:20260424T062944
CREATED:20231207T065512Z
LAST-MODIFIED:20231222T090500Z
UID:12385-1702339200-1702425599@ndtp.by
SUMMARY:Творческий вечер-концерт Анны Трубецкой
DESCRIPTION:Творческий вечер-концерт Анны Трубецкой\n12 декабря в Национальном детском технопарке состоится творческий вечер-концерт Анны Трубецкой. \nАнна Трубецкая – белорусская певица. \nПрекрасным трамплином для нее стало участие в городском мероприятии\, на котором ее заметил руководитель популярной группы Jazz City Band. Услышав\, как талантливая певица исполняла композицию на иврите\, он пригласил ее занять место вокалистки в коллективе. Группе Jazz City Band Анна посвятила пять лет жизни. \nПокинув группу Jazz City Band\, Анна вплотную занялась сольным творчеством\, записывала треки и выступала на концертах как в Беларуси\, так и в России. В 2023 году ее дискографию пополнила лирическая песня «Паранойя». \nВ сентябре певица приняла участие в II Международном конкурсе Almatym Juregimde\, который проводился в Казахстане. За первое место боролись 15 исполнителей из разных стран. Трубецкая завоевала Гран-при\, получив денежный приз в размере $ 4 тыс.
URL:https://ndtp.by/event/12122023/
ATTACH;FMTTYPE=image/png:https://ndtp.by/wp-content/uploads/2021/05/Group-29.png
END:VEVENT
BEGIN:VEVENT
DTSTART;VALUE=DATE:20231215
DTEND;VALUE=DATE:20231216
DTSTAMP:20260424T062944
CREATED:20231214T095409Z
LAST-MODIFIED:20231214T095409Z
UID:12544-1702598400-1702684799@ndtp.by
SUMMARY:Подписание меморандума с концерном «Белнефтехим»
DESCRIPTION:Подписание меморандума с концерном «Белнефтехим»\n15 декабря состоится подписание меморандума о сотрудничестве между учреждением образования «Национальный детский технопарк» и концерном «Белнефтехим». \nЦель сотрудничества – повышение качества образовательного процесса в соответствии с приоритетами современной образовательной политики и потребностями реального сектора экономики\, обеспечение необходимых условий для профессионального самоопределения\, личностного развития детей и молодежи в сфере науки\, техники и технологии.
URL:https://ndtp.by/event/15122023/
ATTACH;FMTTYPE=image/png:https://ndtp.by/wp-content/uploads/2021/05/Group-29.png
END:VEVENT
BEGIN:VEVENT
DTSTART;VALUE=DATE:20231219
DTEND;VALUE=DATE:20231220
DTSTAMP:20260424T062944
CREATED:20231214T061607Z
LAST-MODIFIED:20231214T061607Z
UID:12528-1702944000-1703030399@ndtp.by
SUMMARY:Junior Fest
DESCRIPTION:Junior Fest\n19 декабря в выставочном комплексе Национального детского технопарка пройдёт Junior Fest. \nДжуниоры декабрьской образовательной смены представят свои проекты\, которые разрабатывали на протяжении всей смены совместно с преподавателями вузов. \nJunior Fest посетят представители белорусских предприятий. Они ознакомятся с разработками джуниоров и оценят\, насколько проекты могут быть применимы в современной белорусской промышленности.
URL:https://ndtp.by/event/19122023/
ATTACH;FMTTYPE=image/png:https://ndtp.by/wp-content/uploads/2021/05/Group-29.png
END:VEVENT
END:VCALENDAR