BEGIN:VCALENDAR
VERSION:2.0
PRODID:-//Национальный детский технопарк - ECPv5.9.2//NONSGML v1.0//EN
CALSCALE:GREGORIAN
METHOD:PUBLISH
X-WR-CALNAME:Национальный детский технопарк
X-ORIGINAL-URL:https://ndtp.by
X-WR-CALDESC:События для Национальный детский технопарк
BEGIN:VTIMEZONE
TZID:Europe/Moscow
BEGIN:STANDARD
TZOFFSETFROM:+0300
TZOFFSETTO:+0300
TZNAME:MSK
DTSTART:20230101T000000
END:STANDARD
END:VTIMEZONE
BEGIN:VEVENT
DTSTART;VALUE=DATE:20231003
DTEND;VALUE=DATE:20231027
DTSTAMP:20260424T093720
CREATED:20230921T064539Z
LAST-MODIFIED:20231009T112509Z
UID:10864-1696291200-1698364799@ndtp.by
SUMMARY:Октябрьская образовательная смена
DESCRIPTION:Октябрьская образовательная смена\n Положение об образовательной смене \nСписочный состав участников\, допущенных ко второму этапу отбора учащихся для обучения в Национальном детском технопарке с 03.10.2023г. по 26.10.2023г. \nМеста проведения \n Списочный состав групп учащихся\, зачисленных в УО Национальный детский технопарк для обучения с 03.10.2023г. по 26.10.2023г.
URL:https://ndtp.by/event/102023/
ATTACH;FMTTYPE=image/png:https://ndtp.by/wp-content/uploads/2021/05/Group-29.png
END:VEVENT
BEGIN:VEVENT
DTSTART;VALUE=DATE:20231006
DTEND;VALUE=DATE:20231007
DTSTAMP:20260424T093720
CREATED:20231003T090604Z
LAST-MODIFIED:20231025T073912Z
UID:11188-1696550400-1696636799@ndtp.by
SUMMARY:Концерт\, посвященный Дню учителя
DESCRIPTION:Концерт\, посвященный Дню учителя
URL:https://ndtp.by/event/06102023/
ATTACH;FMTTYPE=image/png:https://ndtp.by/wp-content/uploads/2021/05/Group-29.png
END:VEVENT
BEGIN:VEVENT
DTSTART;VALUE=DATE:20231012
DTEND;VALUE=DATE:20231013
DTSTAMP:20260424T093720
CREATED:20231009T083238Z
LAST-MODIFIED:20231025T073917Z
UID:11284-1697068800-1697155199@ndtp.by
SUMMARY:Открытый лекторий
DESCRIPTION:Открытый лекторий\n12 октября состоится Открытый лекторий на тему «Детство: ретроспектива (о понятии детства в истории)» \nПриглашённый гость – научный сотрудник Института истории НАН Беларуси Латышев Кирилл Алексеевич. \nКирилл Алексеевич расскажет джуниорам о том\, как тема детства раскрывалась в искусстве и культуре на протяжении истории.
URL:https://ndtp.by/event/12102023/
ATTACH;FMTTYPE=image/png:https://ndtp.by/wp-content/uploads/2021/05/Group-29.png
END:VEVENT
BEGIN:VEVENT
DTSTART;VALUE=DATE:20231017
DTEND;VALUE=DATE:20231018
DTSTAMP:20260424T093720
CREATED:20231013T121459Z
LAST-MODIFIED:20231025T074229Z
UID:11437-1697500800-1697587199@ndtp.by
SUMMARY:Конкурс инсценированной песни «Белорусский стандарт»
DESCRIPTION:Конкурс инсценированной песни «Белорусский стандарт»\n17 октября в Национальном детском технопарке пройдёт конкурс инсценированной песни «Белорусский стандарт»! \nКаждый профиль выбирает себе песню белорусского исполнителя: \n\nо Беларуси;\nо Родине;\nс военно-патриотической направленностью.\n\nДжуниорам предстоит инсценировать выбранную композицию в своем выступлении. \nКак у них это выйдет\, увидим 17 октября!
URL:https://ndtp.by/event/17102023/
ATTACH;FMTTYPE=image/png:https://ndtp.by/wp-content/uploads/2021/05/Group-29.png
END:VEVENT
BEGIN:VEVENT
DTSTART;VALUE=DATE:20231018
DTEND;VALUE=DATE:20231021
DTSTAMP:20260424T093720
CREATED:20231018T063136Z
LAST-MODIFIED:20231025T074221Z
UID:11489-1697587200-1697846399@ndtp.by
SUMMARY:Финал конкурса «100 идей для СНГ»
DESCRIPTION:Финал конкурса «100 идей для СНГ»\nФинал международного молодежного проекта «100 идей для СНГ» пройдет в Минске с 18 по 20 октября на базе Национального детского технопарка. \nПроект «100 идей для СНГ» утвержден Решением Совета глав правительств СНГ от 1 июня 2018 года и реализуется в рамках международной молодежной политики. \nЕго главная цель – стимулирование инновационной деятельности среди молодежи\, решению ею задач социально-экономического развития государств Содружества.
URL:https://ndtp.by/event/1820102023/
ATTACH;FMTTYPE=image/png:https://ndtp.by/wp-content/uploads/2021/05/Group-29.png
END:VEVENT
BEGIN:VEVENT
DTSTART;VALUE=DATE:20231025
DTEND;VALUE=DATE:20231026
DTSTAMP:20260424T093720
CREATED:20231024T072131Z
LAST-MODIFIED:20231024T072131Z
UID:11546-1698192000-1698278399@ndtp.by
SUMMARY:Junior Fest
DESCRIPTION:Junior Fest\n25 октября в выставочном комплексе Национального детского технопарка пройдёт Junior Fest. \nДжуниоры октябрьской образовательной смены представят свои проекты\, которые разрабатывали на протяжении всей смены совместно с преподавателями вузов.
URL:https://ndtp.by/event/25102023/
ATTACH;FMTTYPE=image/png:https://ndtp.by/wp-content/uploads/2021/05/Group-29.png
END:VEVENT
BEGIN:VEVENT
DTSTART;VALUE=DATE:20231026
DTEND;VALUE=DATE:20231028
DTSTAMP:20260424T093720
CREATED:20231024T073147Z
LAST-MODIFIED:20231025T120604Z
UID:11550-1698278400-1698451199@ndtp.by
SUMMARY:Международная научно-практическая конференция
DESCRIPTION:Международная научно-практическая конференция «Вызовы современности и стратегии развития дополнительного образования детей и молодежи в условиях современной реальности»\nС 26 по 27 октября на базе Национального детского технопарка пройдёт международная научно-практическая конференция «Вызовы современности и стратегии развития дополнительного образования детей и молодежи в условиях современной реальности». \nСреди участников конференции: директора учреждений дополнительного образования детей и молодежи Республики Беларусь\, научные и общественные деятели\, международные эксперты\, представители органов управления образованием\, СМИ. \nНа конференции будут подняты следующие темы: \n\nинновационные процессы в сфере развития дополнительного образования детей и молодежи;\nтеоретико-методологические аспекты управленческой деятельности в учреждении дополнительного образования детей и молодежи;\nцифровизация дополнительного образования детей и молодежи как фактор модернизации в современных условиях;\nразвитие профессиональной компетентности педагога в новых условиях развития дополнительного образования детей и молодежи;\nвнедрение эффективных механизмов стимулирования и поддержки непрерывного профессионального развития педагогических и управленческих кадров;\nмеждународное сотрудничество в сфере дополнительного образования детей и молодежи\, качество дополнительного образования детей и молодежи как условие формирование творческой и высоконравственной личности.\n\n Программа Международной научно-практической конференции «Вызовы современности и стратегии развития дополнительного образования детей и молодежи в условиях современной реальности»
URL:https://ndtp.by/event/2627102023/
ATTACH;FMTTYPE=image/png:https://ndtp.by/wp-content/uploads/2021/05/Group-29.png
END:VEVENT
BEGIN:VEVENT
DTSTART;VALUE=DATE:20231030
DTEND;VALUE=DATE:20231123
DTSTAMP:20260424T093720
CREATED:20231009T084426Z
LAST-MODIFIED:20231011T064744Z
UID:11287-1698624000-1700697599@ndtp.by
SUMMARY:Ноябрьская образовательная смена
DESCRIPTION:Ноябрьская образовательная смена\n Положение об образовательной смене \nСписочный состав участников\, допущенных ко второму этапу отбора учащихся для обучения в Национальном детском технопарке с 30.10.2023г. по 22.11.2023г. \nМеста проведения \n Списочный состав групп учащихся\, зачисленных в УО Национальный детский технопарк для обучения с 30.10.2023г. по 22.11.2023г.
URL:https://ndtp.by/event/nov2023/
ATTACH;FMTTYPE=image/png:https://ndtp.by/wp-content/uploads/2021/05/Group-29.png
END:VEVENT
END:VCALENDAR