BEGIN:VCALENDAR
VERSION:2.0
PRODID:-//Национальный детский технопарк - ECPv5.9.2//NONSGML v1.0//EN
CALSCALE:GREGORIAN
METHOD:PUBLISH
X-WR-CALNAME:Национальный детский технопарк
X-ORIGINAL-URL:https://ndtp.by
X-WR-CALDESC:События для Национальный детский технопарк
BEGIN:VTIMEZONE
TZID:Europe/Moscow
BEGIN:STANDARD
TZOFFSETFROM:+0300
TZOFFSETTO:+0300
TZNAME:MSK
DTSTART:20230101T000000
END:STANDARD
END:VTIMEZONE
BEGIN:VEVENT
DTSTART;VALUE=DATE:20230829
DTEND;VALUE=DATE:20230922
DTSTAMP:20260424T111127
CREATED:20230817T071150Z
LAST-MODIFIED:20230821T111557Z
UID:10199-1693267200-1695340799@ndtp.by
SUMMARY:Сентябрьская образовательная смена
DESCRIPTION:Сентябрьская образовательная смена\n Положение об образовательной смене \nСписочный состав участников\, допущенных ко второму этапу отбора учащихся для обучения в Национальном детском технопарке с 29.08.2023г. по 21.09.2023г. \nМеста проведения \n Списочный состав групп учащихся\, зачисленных в УО Национальный детский технопарк для обучения с 29.08.2023г. по 21.09.2023г.
URL:https://ndtp.by/event/092023/
ATTACH;FMTTYPE=image/png:https://ndtp.by/wp-content/uploads/2021/05/Group-29.png
END:VEVENT
BEGIN:VEVENT
DTSTART;VALUE=DATE:20230831
DTEND;VALUE=DATE:20230902
DTSTAMP:20260424T111127
CREATED:20230822T130946Z
LAST-MODIFIED:20230926T093228Z
UID:10352-1693440000-1693612799@ndtp.by
SUMMARY:Форум одаренных детей и молодежи
DESCRIPTION:Форум одаренных детей и молодежи\nВ Национальном детском технопарке пройдёт Форум одаренных детей и молодежи. \nФорум будет длиться два дня\, с 31 августа по 1 сентября\, и соберет не только самых ярких выпускников Национального детского технопарка\, но и одарённых детей со всей Беларуси! \nДля ребят предусмотрена насыщенная программа: \n\nоткрытый лекторий с участием членов Совета молодых ученых при Национальной академии наук Беларуси;\nпросмотр кинофильма «Расписание на послезавтра»;\nоткрытый лекторий «Поддержка научных проектов и исследований молодежи в Республике Беларусь» с участием Совета молодых ученых при Министерстве образования Беларуси.\n\nС нетерпением ждём участников форума! \n  Письмо \n  Программа
URL:https://ndtp.by/event/3108-01092023/
ATTACH;FMTTYPE=image/png:https://ndtp.by/wp-content/uploads/2021/05/Group-29.png
END:VEVENT
BEGIN:VEVENT
DTSTART;VALUE=DATE:20230902
DTEND;VALUE=DATE:20230903
DTSTAMP:20260424T111127
CREATED:20230822T090126Z
LAST-MODIFIED:20230926T093233Z
UID:10290-1693612800-1693699199@ndtp.by
SUMMARY:ATOM TEAM
DESCRIPTION:ATOM TEAM на Фестивале науки\n2 сентября сеть Информационных центров по атомной энергии (ИЦАЭ) проведёт научно-познавательную программу ATOM TEAM на Фестивале науки в Минске (Республика Беларусь). \nЦелый день на площадке ATOM TEAM посетителей ждут инженерные мастер-классы и научно-популярные лекции\, интеллектуальные игры и атомные викторины. Любой желающий сможет запустить цепную реакцию\, построить самую высокую испарительную башню\, разогнать Колесо Да Винчи\, создать собственный «парад планет» или построить лабиринт. \nСовременный инженер в своей работе прибегает к различным методам и приёмам. Например\, использует удалённое управление\, бесконтактные датчики\, применяет оптические инструменты\, а в дефектоскопии – проникающее ионизирующее излучение. Во время мастер-класса «Три помощника современного инженера: радио\, свет и радиация» вместе с физиком и популяризатором науки Дмитрием Побединским соберём необычные устройства\, которые используют три вида излучения: радиоприёмник\, работающий без батареек\, катушку Теслы\, которая зажигает лампочки без проводов\, и камеру Вильсона\, в которой можно увидеть радиацию. \nКакие открытия последних 20 лет точно войдут в историю и изменят мир навсегда? Во время лекции Дмитрия Побединского «Достижения современной физики» обсудим квантовые компьютеры\, графен\, бозон Хиггса\, тёмную материю и многое другое! \nНе упустите возможность окунуться в мир атомных технологий! Ждём вас 2 сентября в Центральном ботаническом саду Минска на площадке ATOM TEAM! \nМероприятия организованы при поддержке Инжинирингового дивизиона Госкорпорации «Росатом» (АО «АСЭ»).
URL:https://ndtp.by/event/02092023/
ATTACH;FMTTYPE=image/png:https://ndtp.by/wp-content/uploads/2021/05/Group-29.png
END:VEVENT
BEGIN:VEVENT
DTSTART;VALUE=DATE:20230917
DTEND;VALUE=DATE:20230918
DTSTAMP:20260424T111127
CREATED:20230907T112824Z
LAST-MODIFIED:20230926T093237Z
UID:10556-1694908800-1694995199@ndtp.by
SUMMARY:День народного единства
DESCRIPTION:День народного единства\n17 сентября в 14.30 в Технодоме состоится премьерный показ фильма «На другом берегу» киностудии «Беларусьфильм». \nПосле просмотра пройдёт встреча с председателем Белорусского союза кинематографистов\, председателем Конференции киносоюзов стран СНГ\, заслуженным деятелем искусств Беларуси Виктором Васильевым. \nТакже состоится информационный час\, посвященный Дню народного единства
URL:https://ndtp.by/event/17092023/
ATTACH;FMTTYPE=image/png:https://ndtp.by/wp-content/uploads/2021/05/Group-29.png
END:VEVENT
BEGIN:VEVENT
DTSTART;VALUE=DATE:20230924
DTEND;VALUE=DATE:20231001
DTSTAMP:20260424T111127
CREATED:20230817T072102Z
LAST-MODIFIED:20231002T060558Z
UID:10201-1695513600-1696118399@ndtp.by
SUMMARY:Конкурс научно-технического творчества учащихся Союзного государства «Таланты XXI века»
DESCRIPTION:Конкурс научно-технического творчества учащихся Союзного государства «Таланты XXI века»\nС 24 по 30 сентября 2023 года на базе учреждения образования «Национальный детский технопарк» пройдет Конкурс научно-технического творчества учащихся Союзного государства «Таланты XXI века». \nКонкурс проводится Министерством образования Республики Беларусь и Министерством просвещения  Российской Федерации совместно с Постоянным комитетом Союзного государства.\nСедьмой по счету конкурс примет  около 300 юных изобретателей\, рационализаторов\, исследователей в возрасте 14-18 лет из всех областей Беларуси и г.Минска и 16 субъектов Российской Федерации. \nСогласно Положению о конкурсе\, ребята будут представлять и защищать свои творческие проекты в 7-ми секциях: «Техническое конструирование»\, «Электроника\, телемеханика и связь»\, «Робототехника\, автоматика и интеллектуальные системы»\, «Научные исследования\, эксперимент»\, «Астрономия и космонавтика»\, «Мультимедийные технологии»\, «Программирование и вычислительная техника». \nИнтересна и насыщенна будет программа всех конкурсных дней. Кроме представления и защиты своих проектов участники примут участие в гражданско-патриотической акции «Подвиг народа – бессмертен»\, которая пройдет 25 сентября в 11.00 у Стелы Минск – город-герой\, выставке научно-технического творчества\, а также в тематических мероприятиях: «День Беларуси»\, «День России»\, «День науки»\, «День Союзного государства». Для ребят подготовлены концертные программы\, творческие вечера\, открытые лектории ученых и известных изобретателей\, интеллектуальные конкурсы\, а также спортивные соревнования. \nРебята посетят Белорусский государственный музей истории Великой Отечественной войны\, Национальную библиотеку Беларуси\, Национальный мемориальный комплекс «Храм-памятник в честь Всех Святых и в память о жертвах\, спасению Отечества нашего послуживших»\, Национальную Академию наук Беларуси\, историко-культурный комплекс «Линия Сталина». \nОсталось совсем мало времени до начала конкурса. И очень хочется пожелать конкурсантам как можно больше побед и успехов в достижении поставленных целей\, вдохновения\, свежих научных и творческих идей\, положительных эмоций и впечатлений\, новых друзей! \nКонтактное лицо: Белов Андрей Александрович \n  Положение \n\n\n\n\n\nВРЕМЯ\nНАЗВАНИЕ МЕРОПРИЯТИЯ\nМЕСТО ПРОВЕДЕНИЯ\n\n\n24 сентября (воскресенье)\n\n\nдо 10.30\nЗаезд команд согласно графику прибытия поездов. \nЗавтрак (по группам). \nРегистрация\, размещение участников\nг. Минск\, Университетский проезд\, дом 7\,  учреждение образования «Национальный детский технопарк» (далее – Технодом)\n\n\n10.30 – 12.30\nЭкскурсия «Минск – город-герой» (автобусная)\nг. Минск\n\n\n13.00 – 14.30\nОбед (по группам): \n13:00 – 13:35 первая группа \n13:55 – 14:30 вторая группа\nТехнодом\n\n\n14.40 – 15.30\nПереезд к Белорусскому государственному музею истории Великой Отечественной войны\nТехнодом – проспект Победителей\, дом 8\n\n\n15.30 – 18.00\nПосещение Белорусского государственного музея истории Великой Отечественной войны\nг. Минск\, проспект Победителей\, дом 8\n\n\n18.00 – 18.30\nПереезд к Технодому\nг. Минск\, проспект Победителей\, дом 8 – Университетский проезд\, дом 7\n\n\n18.30 – 19.30\nУжин (по группам): \n18:30 – 18:55 первая группа \n19:05 – 19:30 вторая группа\nТехнодом\n\n\n19.30 – 21.30\nТематическая программа «Вечер знакомств». Дискотека\nТехнодом\n\n\n19.30 – 20.30\nСовещание с руководителями (представителями)  команд\nТехнодом\n\n\n25 сентября (понедельник)\n\n\n08.00 – 09.00\nЗавтрак (по группам): \n08.00 – 08.25 первая группа \n08.35 – 09.00 вторая группа\nТехнодом\n\n\n09.00 – 09.30\nОрганизационное собрание членов жюри и представителей Оргкомитета\nг. Минск\, ул. Франциска Скорины\, дом 25 корпус 3\, учебно-лабораторный корпус учреждения образования Национальный детский технопарк (далее – УЛК)\n\n\n09.30 – 10.20\nПодготовка работы секций (жеребьевка участников\, проверка технического и программного обеспечения)\nУЛК\n\n\n10.20 – 11.00\nПереезд к архитектурно-скульптурному комплексу «Минск — город-герой»\, построение команд\nг. Минск\, Университетский проезд\, дом 7  –  проспект Победителей\n\n\n11.00 – 11.30\nГражданско-патриотическая акция «Подвиг народа – бессмертен». Возложение цветов от делегаций Республики Беларусь и Российской Федерации к обелиску «Минск– город-герой»\nг. Минск\, проспект Победителей\, архитектурно-скульптурный комплекс «Минск — город-герой»\n\n\n11.30 – 12.00\nПереезд к Технодому\nг. Минск\, проспект Победителей\, дом 8 –  Университетский проезд\, дом 7\n\n\n12:00 – 13:30\nОбед (по группам): \n12:00 – 12:35 первая группа \n12:55 – 13:30 вторая группа\nТехнодом\n\n\n13.30 – 15:00\nТоржественная церемония открытия Конкурса. Концертная программа\nВыставочный комплекс\nУЛК\n\n\n15.20 – 18.20\nРабота по секциям: \nCекция 1. «Техническое конструирование» \nСекция 2. «Электроника\, телемеханика и связь» \nСекция 3. «Робототехника\, автоматика и интеллектуальные системы» \nСекция 4. «Научные исследования\, эксперимент» \nСекция 5. «Астрономия и космонавтика» \nСекция 6. «Мультимедийные технологии» \nСекция 7. «Программирование и вычислительная техника» \nПосещение (по группам): музея истории Национальной академии наук Беларуси/ Национального мемориального комплекса «Храм‐памятник в честь Всех Святых и в память о жертвах\, спасению Отечества нашего послуживших» (далее – Храм-памятник)\nУЛК\n\n\n18.30 – 19.30\nУжин (по группам): \n18.30 – 18.55 первая группа \n19.05 – 19.30 вторая группа\nТехнодом\n\n\n20.00 – 22.00\nИнтеллектуально-творческий конкурс «Интел-XXI»\nВыставочный комплекс\nУЛК\n\n\n26 сентября (вторник)\n\n\n08.00 – 09.00\nЗавтрак (по группам): \n08.00 – 08.25 первая группа \n08.35 – 09.00 вторая группа\nТехнодом\n\n\n09.10 –12.50\nПродолжение работы по секциям. \nПосещение (по группам): музея истории Национальной академии наук Беларуси/ Храма‐памятника/ Национальной библиотеки Беларуси\nУЛК\n\n\n13.00 – 14.30\nОбед (по группам): \n13.00 – 13.35 первая группа \n13.55 – 14.30 вторая группа\nТехнодом\n\n\n14.40 – 18.20\nПродолжение работы по секциям. \nПосещение (по группам): музея истории Национальной академии наук Беларуси/ Храма-памятника/ Национальной библиотеки Беларуси\nУЛК\n\n\n18.30 – 19.30\nУжин (по группам): \n18.30 – 18.55 первая группа \n19.05 – 19.30 вторая группа\nТехнодом\n\n\n20.00 – 21.30\nКонцертная программа\nВыставочный комплекс\nУЛК\n\n\n19.30 – 20.30\nПроведение экспертизы работ участников Конкурса членами жюри\nУЛК\n\n\n27 сентября (среда)\n\n\n08.00 – 09.00\nЗавтрак (по группам): \n08.00 – 08.25 первая группа \n08.35 – 09.00 вторая группа\nТехнодом\n\n\n09.10 – 12.50\nПродолжение работы по секциям. \nПосещение (по группам): музея истории Национальной академии наук Беларуси/ Храма-памятника/ Национальной библиотеки Беларуси\nУЛК\n\n\n13.00 – 14.30\nОбед (по группам): \n13:00 – 13:35 первая группа \n13:55 – 14:30 вторая группа\nТехнодом\n\n\n14.40 – 18.20\nПродолжение работы по секциям. \nПосещение (по группам): музея истории Национальной академии наук Беларуси/ Храма-памятника/ Национальной библиотеки Беларуси\nУЛК\n\n\n18.30 – 19.30\nУжин (по группам): \n18:30 – 18:55 первая группа \n19:05 – 19:30 вторая группа\nТехнодом\n\n\n20.00 – 22.00\nСпортландия «Мы – вместе!»\nТехнодом\n\n\n19.30 – 20.30\nПроведение экспертизы работ участников Конкурса членами жюри\nУЛК\n\n\n28 сентября – «День науки» (четверг)\n\n\n08.00 – 09.00\nЗавтрак (по группам): \n08.00 – 08.25 первая группа \n08.35 – 09.00 вторая группа\nТехнодом\n\n\n09.10 – 12.50\nПродолжение работы по секциям. \nПосещение (по группам): музея истории Национальной академии наук Беларуси/ Храма-памятника/ Национальной библиотеки Беларуси\nУЛК\n\n\n13.00 – 14.30\nОбед (по группам): \n13:00 – 13:35 первая группа \n13:55 – 14:30 вторая группа\nУЛК\n\n\n14.40 – 16.20\nПродолжение работы по секциям. \nПосещение (по группам): музея истории Национальной академии наук Беларуси/ Храма-памятника/ Национальной библиотеки Беларуси\nУЛК\n\n\n16.30 – 18.20\n«Открытый лекторий» с участием представителей Совета молодых ученых Национальной академии наук Беларуси и Министерства образования Республики Беларусь\nТехнодом\n\n\n18.30 – 19.30\nУжин (по группам): \n18.30 – 18.55 первая группа \n19.05 – 19.30 вторая группа\nТехнодом\n\n\n19.40 – 21.30\nНаучный творческий конкурс «Две страны – одна судьба»\nТехнодом\n\n\n29 сентября (пятница)\n\n\n08.00 – 09.00\nЗавтрак (по группам): \n08.00 – 08.25 первая группа \n08.35 – 09.00 вторая группа\nТехнодом\n\n\n09.10 – 10.30\nПродолжение работы по секциям. Проведение мастер-классов членами жюри – учеными и ведущими специалистами в области науки и техники Беларуси и России\nУЛК\n\n\n10.30 – 11.00\nИтоговое заседание жюри Конкурса\nУЛК\n\n\n11.00 – 12.00\nТворческая встреча с известными учеными\, деятелями науки и техники\nТехнодом\n\n\n12.00-13.00\nПрезентация деятельности учреждения образования «Национальный детский технопарк». Обмен опытом по работе с одаренной молодежью\nТехнодом\n\n\n13.00 – 14.30\nОбед (по группам): \n13.00 – 13.35 первая группа \n13.55 – 14.30 вторая группа\nТехнодом\n\n\n14.30 – 15.10\nПереезд к историко-культурному комплексу «Линия Сталина»\nТехнодом – Минская обл.\, Минский р-н\, Лошанский с/с\n\n\n15.10 – 18.00\nПосещение историко-культурного комплекса «Линия Сталина»\nМинская обл.\, Минский р-н\, Лошанский с/с\n\n\n18.00 – 18.40\nПереезд в Технодом\nМинская обл.\, Минский р-н\, Лошанский с/с – Технодом\n\n\n18.40 – 19.40\nУжин (по группам): \n18.40 – 19.05 первая группа \n19.15 – 19.40 вторая группа\nТехнодом\n\n\n19.40 – 20.40\nОформление выставки научно-технического творчества молодежи Союзного государства «Таланты XXI века» (выставка работ учащихся – участников Конкурса)\nУЛК\n\n\n20.40 – 22.00\nКультурно-развлекательная программа «Вечер дружбы»\nТехнодом\n\n\n30 сентября – «День Союзного государства» (суббота)\n\n\n08.00 – 09.00\nЗавтрак (по группам): \n08.00 – 08.25 первая группа \n08.35 – 09.00 вторая группа\nТехнодом\n\n\n09.10 – 10.20\nПодведение итогов работы в секциях\nУЛК\n\n\n10.30 – 11.20\nПосещение участниками Конкурса и почетными гостями  выставки работ учащихся – участников Конкурса\nУЛК\n\n\n11.30 – 13.20\nТоржественная церемония закрытия Конкурса. Награждение победителей и призеров. Концертная программа\nвыставочный комплекс\nУЛК\n\n\n13.30 – 15.00\nОбед (по группам): \n13.30 – 14.05 первая группа \n14.25 – 15.00 вторая группа\nТехнодом\n\n\n16.00 – 18.00\nЭкскурсия по Национальному детскому технопарку для участников Конкурса. Свободное время\nг. Минск\n\n\n18.00 – 19.00\nУжин (по группам): \n18.00 – 18.25 первая группа \n18.35 – 19.00 вторая группа\nТехнодом\n\n\nс 19.00\nОтъезд участников Конкурса (по графику)\n\n\n\n\n\n* В программе возможны изменения
URL:https://ndtp.by/event/24-30092023/
ATTACH;FMTTYPE=image/png:https://ndtp.by/wp-content/uploads/2021/05/Group-29.png
END:VEVENT
BEGIN:VEVENT
DTSTART;VALUE=DATE:20230924
DTEND;VALUE=DATE:20231001
DTSTAMP:20260424T111127
CREATED:20231003T090432Z
LAST-MODIFIED:20231003T090818Z
UID:11186-1695513600-1696118399@ndtp.by
SUMMARY:Итоги конкурса научно-технического творчества учащихся Союзного государства «Таланты XXI века»
DESCRIPTION:Итоги конкурса научно-технического творчества учащихся Союзного государства «Таланты XXI века»\nСтремительно пролетела неделя конкурса научно-технического творчества учащихся Союзного государства «Таланты XXI века». На протяжении этого периода 23 команды-участницы конкурса из Беларуси и России защищали свои проекты и соревновались по 7 направлениям. И у нас уже есть имена победителей\, занявших первые места! \nСекция 1. «Техническое конструирование» \nАдонин Алексей Даниилович\, учащийся ГБОУ ЦДО «Малая академия наук» г. Севастополь\, проект «Управление движением упругого объекта при оптимальном перемещении». \nПозняк Дмитрий Викторович\, учащийся ГУДО «Дворец детей и молодёжи г. Новополоцка» Витебской области\, проект «Автосимулятор «I-Drive». \nСекция 2. «Электроника телемеханика и связь» \nГадлишин Виталий Павлович\, учащийся ГБУДО «ЦТТ – «КВАНТОРИУМ»\, г. Донецк\, проект «Разработка электронного устройства подсветки колес велосипеда на основе адресной светодиодной ленты». \nБусько Тимофей Сергеевич\, учащийся ГУО «Средняя школа № 4 г. Дзержинска» Минской области\, проект «Прибор для измерения коэффициента пульсаций светового потока». \nСекция 3. «Робототехника\, автоматика и интеллектуальные системы» \nПолуян Никита Анатольевич\, учащийся ГБУДОРО «Областной центр технического творчества учащихся»\, Ростовская область\, проект «Автономная платформа для сбора мусора с поверхности воды». \nБерняк Никита Александрович\, учащийся ГУО «Гимназия г. Мяделя» Минской области\, проект «Модульный образовательный конструктор «MGRobot» и роботы спасатели». \nСекция 4. «Научные исследования\, эксперимент» \nДербасова Дарья Максимовна\, учащаяся ГБОУ ЦДО «Малая академия наук» г. Севастополь\, проект «Новые виды органических удобрений». \nБабицкий Максим Владимирович\, учащийся ГУДО «Витебский областной дворец детей и молодежи» и ГУО «Гимназия № 2 г. Витебска»\, проект «Разработка и апробация мобильного устройства мониторинга пыльцы и аэробиологических частиц в воздухе». \nСекция 5. «Астрономия и космонавтика» \nГущина Любовь Станиславовна\, учащаяся ООО ЦМИТ «Перспектива»\, г. Курганинск\, Краснодарский край\, проект «Разработка спутника формата CubeSat с биологической нагрузкой». \nГлушанко Ульяна Егоровна\, учащаяся УО «Минский государственный дворец детей и молодежи»\, проект «Поиск микрометеоритов». \nСекция 6. «Мультимедийные технологии» \nЖулего Артем Александрович\, учащийся УО «Гомельский государственный аграрно-экономический колледж»\, проект «Музей Белорусской сказки». \nАвтух Владислав Вадимович\, учащийся ГУО «Гимназия  № 1 г. Волковыска»\, Гродненская область\, проект «Учебный комплекс «Проекционное черчение». \nСекция 7. «Программирование и вычислительная техника» \nБлизниченко Алексей Юрьевич\, учащийся ГБОУ ЦДО «Малая академия наук» г. Севастополь\, «Приложение для создания и использования нейронных сетей «ANNA». \nРыжков Михаил Павлович\, учащийся ГУДО «Витебский областной дворец детей и молодежи»\, проект «Виртуальная игра «Math Odyssey VR». \nТакже у нас есть два абсолютных победителя! От Республики Беларусь им стал Бабицкий Максим Владимирович\, учащийся Государственного учреждения дополнительного образования «Витебский областной дворец детей и молодежи»\, объединения по интересам «Экспериментальная биология» и Государственного учреждения образования «Гимназия № 2 г. Витебска». Максим представил работу в секции «Научные исследования\, эксперимент» – «Разработка и апробация мобильного устройства мониторинга пыльцы и аэробиологических частиц в воздухе». \nОт Российской Федерации абсолютным победителем стал Адонин Алексей Данилович\, учащийся государственного бюджетного образовательного учреждения «Центр дополнительного образования «Малая академия наук»\, творческого объединения «ПРОТЕХ. Мастерская физики»\, г. Севастополь. Алексей представил проект «Управление движением упругого объекта при оптимальном перемещении» в секции «Техническое конструирование». \n– Все здесь присутствующие – большие молодцы! Из победы и недостижения желаемого мы должны одинаково научиться делать выводы и всегда продолжать идти дальше\, – обратилась к участникам на торжественной церемонии закрытия Елена Богдан\, заместитель Государственного секретаря Союзного государства. \nМы благодарим и поздравляем всех участников конкурса научно-технического творчества учащихся Союзного государства «Таланты XXI века» за неделю\, проведённую вместе! До новых встреч!
URL:https://ndtp.by/event/30092023/
ATTACH;FMTTYPE=image/png:https://ndtp.by/wp-content/uploads/2021/05/Group-29.png
END:VEVENT
BEGIN:VEVENT
DTSTART;VALUE=DATE:20230925
DTEND;VALUE=DATE:20230926
DTSTAMP:20260424T111127
CREATED:20230921T061951Z
LAST-MODIFIED:20231009T083303Z
UID:10859-1695600000-1695686399@ndtp.by
SUMMARY:Гражданско-патриотическая акция «Подвиг народа бессмертен»
DESCRIPTION:Гражданско-патриотическая акция\n«Подвиг народа бессмертен»\n25 сентября участники конкурса научно-технического творчества «Таланты XXI века» приняли участие в гражданско-патриотической акции «Подвиг народа — бессмертен». Акция прошла у обелиска «Минск — город-герой». \nУчастники конкурса с 16 регионов Российской Федерации\, 6 областей Республики Беларусь и города Минска возложили цветы к стеле «Минск — город-герой» в память о погибших в годы Великой Отечественной войны. \nЭта акция стала очень важным моментом единения обеих стран\, которые делят столько общего в истории и культуре.
URL:https://ndtp.by/event/25092023/
LOCATION:Мемориальный комплекс «Минск – город-герой»\, пр-т Победителей\,8
ATTACH;FMTTYPE=image/png:https://ndtp.by/wp-content/uploads/2021/05/Group-29.png
END:VEVENT
END:VCALENDAR