BEGIN:VCALENDAR
VERSION:2.0
PRODID:-//Национальный детский технопарк - ECPv5.9.2//NONSGML v1.0//EN
CALSCALE:GREGORIAN
METHOD:PUBLISH
X-WR-CALNAME:Национальный детский технопарк
X-ORIGINAL-URL:https://ndtp.by
X-WR-CALDESC:События для Национальный детский технопарк
BEGIN:VTIMEZONE
TZID:Europe/Moscow
BEGIN:STANDARD
TZOFFSETFROM:+0300
TZOFFSETTO:+0300
TZNAME:MSK
DTSTART:20230101T000000
END:STANDARD
END:VTIMEZONE
BEGIN:VEVENT
DTSTART;VALUE=DATE:20230814
DTEND;VALUE=DATE:20230829
DTSTAMP:20260424T125250
CREATED:20230817T072414Z
LAST-MODIFIED:20230817T072434Z
UID:10203-1691971200-1693267199@ndtp.by
SUMMARY:Прием заявок на ноябрьскую образовательную смену
DESCRIPTION:Прием заявок на ноябрьскую образовательную смену\nВ учреждении образования «Национальный детский технопарк» стартовал прием заявок на ноябрьскую образовательную смену\, которая пройдет с 30 октября по 22 ноября 2023 года. К участию в конкурсном отборе приглашаются учащиеся 9-11 классов. \nПодать заявку можно с 14 по 28 августа текущего года по образовательным направлениям: \n\nАвиакосмические технологии\nАрхитектура и дизайн\nБиотехнологии\nВиртуальная и дополненная реальность\nЗеленая химия\nИнженерная экология\nИнформационные и компьютерные технологии (Прототипирование)\nИнформационная безопасность\nЛазерные технологии\nМашины и двигатели. Автомобилестроение\nНаноиндустрия и нанотехнологии\nПриродные ресурсы\nРобототехника\nЭлектроника и связь\nЭнергетика будущего\n\nОтбор будет проводиться в два этапа. Для участия в 1 этапе отбора необходимо направить заявку и проект (в формате PDF) либо заявку и документы\, подтверждающие победы и (или) участие в международных и (или) республиканских образовательных мероприятиях на сайт ndtp.by (в шапке сайта выбрать пункт «онлайн заявка» либо перейти в раздел Образовательные смены/Календарь образовательных смен/Ноябрьская смена/Подать заявку). \nСписки учащихся\, успешно прошедших 1 этап отбора\, будут опубликованы на сайте ndtp.by не позднее 11.09.2023г. \nПри подаче заявки\, пожалуйста\, читайте внимательно Положение об образовательной смене.
URL:https://ndtp.by/event/14-28082023/
ATTACH;FMTTYPE=image/png:https://ndtp.by/wp-content/uploads/2021/05/Group-29.png
END:VEVENT
BEGIN:VEVENT
DTSTART;VALUE=DATE:20230829
DTEND;VALUE=DATE:20230922
DTSTAMP:20260424T125250
CREATED:20230817T071150Z
LAST-MODIFIED:20230821T111557Z
UID:10199-1693267200-1695340799@ndtp.by
SUMMARY:Сентябрьская образовательная смена
DESCRIPTION:Сентябрьская образовательная смена\n Положение об образовательной смене \nСписочный состав участников\, допущенных ко второму этапу отбора учащихся для обучения в Национальном детском технопарке с 29.08.2023г. по 21.09.2023г. \nМеста проведения \n Списочный состав групп учащихся\, зачисленных в УО Национальный детский технопарк для обучения с 29.08.2023г. по 21.09.2023г.
URL:https://ndtp.by/event/092023/
ATTACH;FMTTYPE=image/png:https://ndtp.by/wp-content/uploads/2021/05/Group-29.png
END:VEVENT
BEGIN:VEVENT
DTSTART;VALUE=DATE:20230831
DTEND;VALUE=DATE:20230902
DTSTAMP:20260424T125250
CREATED:20230822T130946Z
LAST-MODIFIED:20230926T093228Z
UID:10352-1693440000-1693612799@ndtp.by
SUMMARY:Форум одаренных детей и молодежи
DESCRIPTION:Форум одаренных детей и молодежи\nВ Национальном детском технопарке пройдёт Форум одаренных детей и молодежи. \nФорум будет длиться два дня\, с 31 августа по 1 сентября\, и соберет не только самых ярких выпускников Национального детского технопарка\, но и одарённых детей со всей Беларуси! \nДля ребят предусмотрена насыщенная программа: \n\nоткрытый лекторий с участием членов Совета молодых ученых при Национальной академии наук Беларуси;\nпросмотр кинофильма «Расписание на послезавтра»;\nоткрытый лекторий «Поддержка научных проектов и исследований молодежи в Республике Беларусь» с участием Совета молодых ученых при Министерстве образования Беларуси.\n\nС нетерпением ждём участников форума! \n  Письмо \n  Программа
URL:https://ndtp.by/event/3108-01092023/
ATTACH;FMTTYPE=image/png:https://ndtp.by/wp-content/uploads/2021/05/Group-29.png
END:VEVENT
END:VCALENDAR