BEGIN:VCALENDAR
VERSION:2.0
PRODID:-//Национальный детский технопарк - ECPv5.9.2//NONSGML v1.0//EN
CALSCALE:GREGORIAN
METHOD:PUBLISH
X-WR-CALNAME:Национальный детский технопарк
X-ORIGINAL-URL:https://ndtp.by
X-WR-CALDESC:События для Национальный детский технопарк
BEGIN:VTIMEZONE
TZID:Europe/Moscow
BEGIN:STANDARD
TZOFFSETFROM:+0300
TZOFFSETTO:+0300
TZNAME:MSK
DTSTART:20230101T000000
END:STANDARD
END:VTIMEZONE
BEGIN:VEVENT
DTSTART;VALUE=DATE:20230405
DTEND;VALUE=DATE:20230429
DTSTAMP:20260424T191358
CREATED:20230330T070347Z
LAST-MODIFIED:20230331T105026Z
UID:8817-1680652800-1682726399@ndtp.by
SUMMARY:Апрельская образовательная смена
DESCRIPTION:Апрельская образовательная смена\n Положение об образовательной смене \n  Списочный состав участников\, допущенных ко второму этапу отбора учащихся для обучения в Национальном детском технопарке с 05.04.2023г. по 28.04.2023г. \n  Места проведения \n Списочный состав групп учащихся\, зачисленных в УО Национальный детский технопарк для обучения с 05.04.2023г. по 28.04.2023г. \n Программа внеучебных мероприятий
URL:https://ndtp.by/event/apr-2023/
ATTACH;FMTTYPE=image/png:https://ndtp.by/wp-content/uploads/2021/05/Group-29.png
END:VEVENT
BEGIN:VEVENT
DTSTART;VALUE=DATE:20230411
DTEND;VALUE=DATE:20230414
DTSTAMP:20260424T191358
CREATED:20230228T105209Z
LAST-MODIFIED:20230530T073538Z
UID:8448-1681171200-1681430399@ndtp.by
SUMMARY:Заключительный этап республиканского конкурса «Hi-Tech»
DESCRIPTION:Заключительный этап республиканского конкурса «Hi-Tech»\n  Письмо министерства образования о поведении Республиканского конкурса Hi-Tech \n Письмо министерства образования о поведении Республиканского конкурса Hi-Tech \n  Предварительные конкурсные задания \n  Программа Hi-Tech \nПорядок проживания и питания на период проведения заключительного этапа республиканского конкурса по основам профессиональной подготовки среди школьников «Hi-tech».  Участники в компетенциях проживают и питаются бесплатно. Сопровождающие и главы команд должны предоставить на момент заезда подписанный договор и квитанцию об оплате за проживание. Питание оплачивается отдельно. Стоимость проживания за день составляет 8\,14 руб. (восемь белорусских рублей четырнадцать копеек) \n  Договор для оплаты проживания сопровождающих
URL:https://ndtp.by/event/11042023/
ATTACH;FMTTYPE=image/png:https://ndtp.by/wp-content/uploads/2021/05/Group-29.png
END:VEVENT
BEGIN:VEVENT
DTSTART;VALUE=DATE:20230418
DTEND;VALUE=DATE:20230422
DTSTAMP:20260424T191358
CREATED:20230228T105346Z
LAST-MODIFIED:20230530T073543Z
UID:8450-1681776000-1682121599@ndtp.by
SUMMARY:XXIX Международная специализированная выставка ТИБО-2023
DESCRIPTION:XXIX Международная специализированная выставка ТИБО-2023\nУчреждение образования «Национальный детский технопарк» примет участие в выставке по информационно-коммуникационным технологиям ТИБО\, которая пройдёт 18-21 апреля в выставочном комплексе по адресу: проспект Победителей\, 14. \nТИБО – уникальная площадка для обмена передовым международным опытом\, генерации инновационных знаний и обсуждения механизмов внедрения новейших технологических трендов в различные сектора экономики\, социальную сферу и систему государственного управления.
URL:https://ndtp.by/event/18042023/
ATTACH;FMTTYPE=image/png:https://ndtp.by/wp-content/uploads/2021/05/Group-29.png
END:VEVENT
BEGIN:VEVENT
DTSTART;VALUE=DATE:20230421
DTEND;VALUE=DATE:20230422
DTSTAMP:20260424T191358
CREATED:20230414T115026Z
LAST-MODIFIED:20230530T073549Z
UID:9029-1682035200-1682121599@ndtp.by
SUMMARY:Открытый лекторий
DESCRIPTION:
URL:https://ndtp.by/event/21042023/
ATTACH;FMTTYPE=image/png:https://ndtp.by/wp-content/uploads/2021/05/Group-29.png
END:VEVENT
BEGIN:VEVENT
DTSTART;VALUE=DATE:20230426
DTEND;VALUE=DATE:20230430
DTSTAMP:20260424T191358
CREATED:20230421T152731Z
LAST-MODIFIED:20230421T152830Z
UID:9098-1682467200-1682812799@ndtp.by
SUMMARY:ХХ республиканская выставка научно-методической литературы\, педагогического опыта и творчества учащейся молодежи
DESCRIPTION:ХХ республиканская выставка научно-методической литературы\, педагогического опыта и творчества учащейся молодежи\nНациональный детский технопарк принимает участие в ХХ республиканской выставке научно-методической литературы\, педагогического опыта и творчества учащейся молодежи. \nВыставка пройдёт с 26 по 29 апреля на базе Административного комплекса по проспекту Победителей\, 14. \nНаше учреждение образования организует работу интерактивных площадок по современным направлениям технического творчества: робототехника\, инженерный дизайн CAD\, беспилотные летательные аппараты\, графический дизайн. Также Детский технопарк представит интерактивную площадку «Атомные технологии – технологии\, меняющие мир». \nНа выставке будет организован профориентационный коучинг-пункт #ПрофиБудуЯ. Задача пункта — профориентационное тестирование с использованием современных компьютерных технологий. Будут проведены диагностика интересов\, способностей\, личности\, темперамента\, профконсультация психолога с учащимися. \nТакже посетители смогут ознакомиться с выставкой методической литературы актуального педагогического опыта в сфере дополнительного образования детей и молодежи технического профиля\, дополнительного образования одаренных детей и молодежи и выставкой творческих работ учащихся учреждений образования республики.
URL:https://ndtp.by/event/26042023/
ATTACH;FMTTYPE=image/png:https://ndtp.by/wp-content/uploads/2021/05/Group-29.png
END:VEVENT
END:VCALENDAR